Workbook

Sheet Sammendrag
A1: ROT-KALKYLE – RENOVERING / OMBYGGING / TILBYGG
A2: Prosjekt:
A3: Adresse:
A4: Dato:
A5: Kalkylenr: | B5: 1
A7: POST | B7: BESKRIVELSE | C7: TIMER ANTALL | D7: TIMER (kr) | E7: MATERIALER (kr) | F7: SUM EKS MVA (kr)
A8: 1 | B8: BEFARING OG KARTLEGGING | C8: ='01 Befaring'!F20 -> 0 | E8: ='01 Befaring'!J19 -> 0 | F8: ='01 Befaring'!N4 -> 0
A9: 2 | B9: ADMINISTRASJON | C9: ='02 Adm'!F31 -> 0 | D9: ='02 Adm'!G31 -> 0 | E9: ='02 Adm'!J30 -> 0 | F9: =E9+D9 -> 0
A10: 3 | B10: RISIKO OG UFORUTSETTE KOSTNADER | C10: ='03 Risiko'!F21 -> 0 | D10: ='03 Risiko'!G21 -> 0 | E10: ='03 Risiko'!J20 -> 0 | F10: =E10+D10 -> 0
A11: 4 | B11: RIVING | C11: ='04 Riving'!F29 -> 0 | D11: ='04 Riving'!G29 -> 0 | E11: ='04 Riving'!J28 -> 0 | F11: =E11+D11 -> 0
A12: 5 | B12: TØMRER | C12: ='05 Tømrer'!F52 -> 0 | D12: ='05 Tømrer'!G52 -> 0 | E12: ='05 Tømrer'!J51 -> 0 | F12: ='05 Tømrer'!K51 -> 0
A13: 6 | B13: BETONG | C13: ='06 Betong'!F19 -> 0 | D13: ='06 Betong'!G19 -> 0 | E13: ='06 Betong'!J18 -> 0 | F13: =E13+D13 -> 0
A14: 7 | B14: VÅTROM | C14: ='07 Våtrom'!F22 -> 0 | D14: ='07 Våtrom'!G22 -> 0 | E14: ='07 Våtrom'!J21 -> 0 | F14: =E14+D14 -> 0
A15: 8 | B15: UNDERENTREPRENØRER | C15: ='08 UE'!F20 -> 0 | D15: ='08 UE'!G19 -> 0 | E15: ='08 UE'!J19 -> 0 | F15: =E15+D15 -> 0
D16: 0 | E16: 0 | F16: =E16+D16 -> 0
D17: 0 | E17: 0 | F17: =E17+D17 -> 0
D18: 0 | E18: 0 | F18: =E18+D18 -> 0
D19: 0 | E19: 0 | F19: =E19+D19 -> 0
D20: 0 | E20: 0 | F20: =E20+D20 -> 0
D21: 0 | E21: 0 | F21: =E21+D21 -> 0
D22: ='03 Risiko'!N2 -> 0 | E22: ='03 Risiko'!N3 -> 0 | F22: ='03 Risiko'!N4 -> 0
A23: SUM | B23: SUM ALLE POSTER EKS MVA | C23: =SUM(C8:C22) -> 0 | D23: =SUM(D8:D22) -> 0 | E23: =SUM(E8:E22) -> 0 | F23: =SUM(F8:F22) -> 0
A24: MVA | B24: 25% MVA | F24: =F23*0.25 -> 0
A25: TOTAL | B25: TOTALSUM INKL MVA | F25: =F23+F24 -> 0

Sheet 01 Befaring
A1: BEFARING OG KARTLEGGING
N2: =G19 -> 0
A3: Timepris kr/t: | B3: 700 | C3: Påslag mat %: | D3: 0.2 | N3: =J19 -> 0
N4: =K19 -> 0
A5: Post | B5: Beskrivelse | C5: Enh. | D5: Mengde | E5: Min/enh | F5: Min total | G5: Timekost | H5: Annet.pris pr enhet | I5: Påsl.% | J5: Mat.kost | K5: Sum
A6: 1.01 | B6: Befaringstid inkl reise | C6: t | D6: 0 | E6: 60 | F6: =D6*E6 -> 0 | G6: =D6*E6/60*$B$3 -> 0 | H6: 0 | I6: =$D$3 -> 0.2 | J6: =D6*H6*(1+$D$3) -> 0 | K6: =G6+J6 -> 0
A7: 1.02 | B7: Gjennomgang tegninger og dokumentasjon | C7: t | D7: 0 | E7: 60 | F7: =D7*E7 -> 0 | G7: =D7*E7/60*$B$3 -> 0 | H7: 0 | I7: =$D$3 -> 0.2 | J7: =D7*H7*(1+$D$3) -> 0 | K7: =G7+J7 -> 0
A8: 1.03 | B8: Tilbudsarbeid / kalkyleringsarbeid | C8: t | D8: 0 | E8: 60 | F8: =D8*E8 -> 0 | G8: =D8*E8/60*$B$3 -> 0 | H8: 0 | I8: =$D$3 -> 0.2 | J8: =D8*H8*(1+$D$3) -> 0 | K8: =G8+J8 -> 0
A9: 1.04 | B9: Kartlegging skjulte konstruksjoner | C9: RS | D9: 0 | E9: 60 | F9: =D9*E9 -> 0 | G9: =D9*E9/60*$B$3 -> 0 | H9: 0 | I9: =$D$3 -> 0.2 | J9: =D9*H9*(1+$D$3) -> 0 | K9: =G9+J9 -> 0
A10: 1.05 | B10: Asbest-kartlegging (UE) | C10: RS | D10: 0 | E10: 0 | F10: =D10*E10 -> 0 | G10: =D10*E10/60*$B$3 -> 0 | H10: 0 | I10: =$D$3 -> 0.2 | J10: =D10*H10*(1+$D$3) -> 0 | K10: =G10+J10 -> 0
A11: 1.06 | B11: Fuktmåling / tilstandsanalyse | C11: RS | D11: 0 | E11: 60 | F11: =D11*E11 -> 0 | G11: =D11*E11/60*$B$3 -> 0 | H11: 0 | I11: =$D$3 -> 0.2 | J11: =D11*H11*(1+$D$3) -> 0 | K11: =G11+J11 -> 0
A12: 1.07 | B12: Tegningsarbeid / søknadsbeskrivelse | C12: t | D12: 0 | E12: 60 | F12: =D12*E12 -> 0 | G12: =D12*E12/60*$B$3 -> 0 | H12: 0 | I12: =$D$3 -> 0.2 | J12: =D12*H12*(1+$D$3) -> 0 | K12: =G12+J12 -> 0
A13: 1.08 | D13: 0 | E13: 0 | F13: =D13*E13 -> 0 | G13: =D13*E13/60*$B$3 -> 0 | H13: 0 | I13: =$D$3 -> 0.2 | J13: =D13*H13*(1+$D$3) -> 0 | K13: =G13+J13 -> 0
A14: 1.09 | D14: 0 | E14: 0 | F14: =D14*E14 -> 0 | G14: =D14*E14/60*$B$3 -> 0 | H14: 0 | I14: =$D$3 -> 0.2 | J14: =D14*H14*(1+$D$3) -> 0 | K14: =G14+J14 -> 0
A15: 1.10 | D15: 0 | E15: 0 | F15: =D15*E15 -> 0 | G15: =D15*E15/60*$B$3 -> 0 | H15: 0 | I15: =$D$3 -> 0.2 | J15: =D15*H15*(1+$D$3) -> 0 | K15: =G15+J15 -> 0
A16: 1.11 | D16: 0 | E16: 0 | F16: =D16*E16 -> 0 | G16: =D16*E16/60*$B$3 -> 0 | H16: 0 | I16: =$D$3 -> 0.2 | J16: =D16*H16*(1+$D$3) -> 0 | K16: =G16+J16 -> 0
A17: 1.12 | D17: 0 | E17: 0 | F17: =D17*E17 -> 0 | G17: =D17*E17/60*$B$3 -> 0 | H17: 0 | I17: =$D$3 -> 0.2 | J17: =D17*H17*(1+$D$3) -> 0 | K17: =G17+J17 -> 0
A18: 1.13 | D18: 0 | E18: 0 | F18: =D18*E18 -> 0 | G18: =D18*E18/60*$B$3 -> 0 | H18: 0 | I18: =$D$3 -> 0.2 | J18: =D18*H18*(1+$D$3) -> 0 | K18: =G18+J18 -> 0
A19: SUM | B19: SUM BEFARING OG KARTLEGGING | F19: =SUM(F6:F18) -> 0 | G19: =SUM(G6:G18) -> 0 | J19: =SUM(J6:J18) -> 0 | K19: =SUM(K6:K18) -> 0
E20: Timer tot | F20: =F19/60 -> 0 | G20: =SUM(G19) -> 0

Sheet 02 Adm
A1: ADMINISTRATIVE KOSTNADER
N2: =G30 -> 0
A3: Timepris kr/t: | B3: 700 | C3: Påslag mat %: | D3: 0.2 | N3: =J30 -> 0
N4: =K30 -> 0
A5: Post | B5: Beskrivelse | C5: Enh. | D5: Mengde enhet | E5: Min/enh | F5: Min total | G5: Timekost | H5: Enhets.pris | I5: Påsl.% | J5: Matr. kost | K5: Sum
A6: 9.01 | B6: Søknad / ansvarsrett (RS) | C6: RS | D6: 0 | E6: 0 | F6: =D6*E6 -> 0 | G6: =D6*E6/60*$B$3 -> 0 | H6: 0 | I6: =$D$3 -> 0.2 | J6: =D6*H6*(1+$D$3) -> 0 | K6: =G6+J6 -> 0
A7: 9.02 | B7: Byggesaksgebyr kommune | C7: RS | D7: 0 | E7: 0 | F7: =D7*E7 -> 0 | G7: =D7*E7/60*$B$3 -> 0 | H7: 3 | I7: =$D$3 -> 0.2 | J7: =D7*H7*(1+$D$3) -> 0 | K7: =G7+J7 -> 0
A8: 9.03 | B8: Uavhengig kontroll | C8: RS | D8: 0 | E8: 0 | F8: =D8*E8 -> 0 | G8: =D8*E8/60*$B$3 -> 0 | H8: 3 | I8: =$D$3 -> 0.2 | J8: =D8*H8*(1+$D$3) -> 0 | K8: =G8+J8 -> 0
A9: 2.04 | B9: Byggestrøm | C9: RS | D9: 0 | E9: 0 | F9: =D9*E9 -> 0 | G9: =D9*E9/60*$B$3 -> 0 | H9: 3 | I9: =$D$3 -> 0.2 | J9: =D9*H9*(1+$D$3) -> 0 | K9: =G9+J9 -> 0
A10: 2.05 | B10: HMS-arbeid | C10: t | D10: 0 | E10: 60 | F10: =D10*E10 -> 0 | G10: =D10*E10/60*$B$3 -> 0 | H10: 0 | I10: =$D$3 -> 0.2 | J10: =D10*H10*(1+$D$3) -> 0 | K10: =G10+J10 -> 0
A11: 2.06 | B11: FDV-dokumentasjon | C11: t | D11: 0 | E11: 60 | F11: =D11*E11 -> 0 | G11: =D11*E11/60*$B$3 -> 0 | H11: 0 | I11: =$D$3 -> 0.2 | J11: =D11*H11*(1+$D$3) -> 0 | K11: =G11+J11 -> 0
A12: 2.07 | B12: Reise og gangtid | C12: Dager | D12: 0 | E12: 0 | F12: =D12*E12 -> 0 | G12: =D12*E12/60*$B$3 -> 0 | H12: 500 | I12: =$D$3 -> 0.2 | J12: =D12*H12*(1+$D$3) -> 0 | K12: =G12+J12 -> 0
A13: 2.08 | B13: Byggeplassoppfølging prosjektleder | C13: t | D13: 0 | E13: 60 | F13: =D13*E13 -> 0 | G13: =D13*E13/60*$B$3 -> 0 | H13: 0 | I13: =$D$3 -> 0.2 | J13: =D13*H13*(1+$D$3) -> 0 | K13: =G13+J13 -> 0
A14: 2.09 | B14: Forsikring i byggetiden | C14: RS | D14: 0 | E14: 0 | F14: =D14*E14 -> 0 | G14: =D14*E14/60*$B$3 -> 0 | H14: 8000 | I14: =$D$3 -> 0.2 | J14: =D14*H14*(1+$D$3) -> 0 | K14: =G14+J14 -> 0
A15: 2.10 | B15: Entreprenørgaranti etter BOFL | C15: RS | D15: 0 | E15: 0 | F15: =D15*E15 -> 0 | G15: =D15*E15/60*$B$3 -> 0 | H15: 0 | I15: =$D$3 -> 0.2 | J15: =D15*H15*(1+$D$3) -> 0 | K15: =G15+J15 -> 0
A16: 2.11 | B16: Spise-/hvilebrakke | C16: RS | D16: 0 | E16: 0 | F16: =D16*E16 -> 0 | G16: =D16*E16/60*$B$3 -> 0 | H16: 5000 | I16: =$D$3 -> 0.2 | J16: =D16*H16*(1+$D$3) -> 0 | K16: =G16+J16 -> 0
A17: 2.12 | B17: Stillas leie (UE eller egen) | C17: RS | D17: 0 | E17: 0 | F17: =D17*E17 -> 0 | G17: =D17*E17/60*$B$3 -> 0 | H17: 0 | I17: =$D$3 -> 0.2 | J17: =D17*H17*(1+$D$3) -> 0 | K17: =G17+J17 -> 0
... A22: 2.17 | B22: Koordinere Underentreprenører | C22: RS | D22: 0 | E22: 0 | F22: =D22*E22 -> 0 | G22: =D22*E22/60*$B$3 -> 0 | H22: 0 | I22: =$D$3 -> 0.2 | J22: =D22*H22*(1+$D$3) -> 0 | K22: =G22+J22 -> 0
A23: 2.18 | D23: 0 | E23: 0 | F23: =D23*E23 -> 0 | G23: =D23*E23/60*$B$3 -> 0 | H23: 0 | I23: =$D$3 -> 0.2 | J23: =D23*H23*(1+$D$3) -> 0 | K23: =G23+J23 -> 0
A24: 2.19 | D24: 0 | E24: 0 | F24: =D24*E24 -> 0 | G24: =D24*E24/60*$B$3 -> 0 | H24: 0 | I24: =$D$3 -> 0.2 | J24: =D24*H24*(1+$D$3) -> 0 | K24: =G24+J24 -> 0
D25: 0 | E25: 0 | F25: =D25*E25 -> 0 | G25: =D25*E25/60*$B$3 -> 0 | H25: 0 | I25: =$D$3 -> 0.2 | J25: =D25*H25*(1+$D$3) -> 0 | K25: =G25+J25 -> 0
D26: 0 | E26: 0 | F26: =D26*E26 -> 0 | G26: =D26*E26/60*$B$3 -> 0 | H26: 0 | I26: =$D$3 -> 0.2 | J26: =D26*H26*(1+$D$3) -> 0 | K26: =G26+J26 -> 0
D27: 0 | E27: 0 | F27: =D27*E27 -> 0 | G27: =D27*E27/60*$B$3 -> 0 | H27: 0 | I27: =$D$3 -> 0.2 | J27: =D27*H27*(1+$D$3) -> 0 | K27: =G27+J27 -> 0
D28: 0 | E28: 0 | F28: =D28*E28 -> 0 | G28: =D28*E28/60*$B$3 -> 0 | H28: 0 | I28: =$D$3 -> 0.2 | J28: =D28*H28*(1+$D$3) -> 0 | K28: =G28+J28 -> 0
D29: 0 | E29: 0 | F29: =D29*E29 -> 0 | G29: =D29*E29/60*$B$3 -> 0 | H29: 0 | I29: =$D$3 -> 0.2 | J29: =D29*H29*(1+$D$3) -> 0 | K29: =G29+J29 -> 0
A30: SUM | B30: SUM ADMINISTRATIVE KOSTNADER | F30: =SUM(F6:F29) -> 0 | G30: =SUM(G6:G29) -> 0 | J30: =SUM(J6:J29) -> 0 | K30: =SUM(K6:K29) -> 0
E31: Timer tot | F31: =F30/60 -> 0 | G31: =SUM(G30) -> 0

Sheet 03 Risiko
A1: RISIKO OG UFORUTSETTE KOSTNADER
N2: =G20 -> 0
A3: Timepris kr/t: | B3: 700 | C3: Påslag mat %: | D3: 0.2 | N3: =J20 -> 0
N4: =K20 -> 0
A5: Post | B5: Beskrivelse | C5: Enh. | D5: Mengde | E5: Min/enh | F5: Min total | G5: Timekost | H5: Mat.pris pr enhet | I5: Påsl.% | J5: Mat.kost | K5: Sum
A6: 3.01 | B6: Råte og fuktskader – avdekkes under riving | C6: RS | D6: 0 | E6: 0 | F6: =D6*E6 -> 0 | G6: =D6*E6/60*$B$3 -> 0 | H6: 0 | I6: =$D$3 -> 0.2 | J6: =D6*H6*(1+$D$3) -> 0 | K6: =G6+J6 -> 0
A7: 3.02 | B7: Skjulte rørfeil / lekkasjer | C7: RS | D7: 0 | E7: 0 | F7: =D7*E7 -> 0 | G7: =D7*E7/60*$B$3 -> 0 | H7: 0 | I7: =$D$3 -> 0.2 | J7: =D7*H7*(1+$D$3) -> 0 | K7: =G7+J7 -> 0
A8: 3.03 | B8: Avvik fra tegninger / som-bygget | C8: RS | D8: 0 | E8: 0 | F8: =D8*E8 -> 0 | G8: =D8*E8/60*$B$3 -> 0 | H8: 0 | I8: =$D$3 -> 0.2 | J8: =D8*H8*(1+$D$3) -> 0 | K8: =G8+J8 -> 0
A9: 3.04 | B9: Konstruktive avvik (bærende vegger) | C9: RS | D9: 0 | E9: 0 | F9: =D9*E9 -> 0 | G9: =D9*E9/60*$B$3 -> 0 | H9: 0 | I9: =$D$3 -> 0.2 | J9: =D9*H9*(1+$D$3) -> 0 | K9: =G9+J9 -> 0
A10: 3.05 | B10: Miljøfarlige stoffer – asbest, PCB | C10: RS | D10: 0 | E10: 0 | F10: =D10*E10 -> 0 | G10: =D10*E10/60*$B$3 -> 0 | H10: 0 | I10: =$D$3 -> 0.2 | J10: =D10*H10*(1+$D$3) -> 0 | K10: =G10+J10 -> 0
A11: 3.06 | B11: Generelt risikopåslag (kr-beløp) | C11: RS | D11: 0 | E11: 0 | F11: =D11*E11 -> 0 | G11: =D11*E11/60*$B$3 -> 0 | H11: 0 | I11: =$D$3 -> 0.2 | J11: =D11*H11*(1+$D$3) -> 0 | K11: =G11+J11 -> 0
A12: 3.07 | B12: Div uforutsett materiell | C12: RS | D12: 0 | E12: 0 | F12: =D12*E12 -> 0 | G12: =D12*E12/60*$B$3 -> 0 | H12: 0 | I12: =$D$3 -> 0.2 | J12: =D12*H12*(1+$D$3) -> 0 | K12: =G12+J12 -> 0
A13: 3.08 | B13: Div uforutsett timer | C13: t | D13: 0 | E13: 60 | F13: =D13*E13 -> 0 | G13: =D13*E13/60*$B$3 -> 0 | H13: 35 | I13: =$D$3 -> 0.2 | J13: =D13*H13*(1+$D$3) -> 0 | K13: =G13+J13 -> 0
A14: 3.09 | B14: Forsterkning av eksist konstruksjon | C14: t/ RS | D14: 0 | E14: 0 | F14: =D14*E14 -> 0 | G14: =D14*E14/60*$B$3 -> 0 | H14: 0 | I14: =$D$3 -> 0.2 | J14: =D14*H14*(1+$D$3) -> 0 | K14: =G14+J14 -> 0
A15: 3.10 | D15: 0 | E15: 0 | F15: =D15*E15 -> 0 | G15: =D15*E15/60*$B$3 -> 0 | H15: 0 | I15: =$D$3 -> 0.2 | J15: =D15*H15*(1+$D$3) -> 0 | K15: =G15+J15 -> 0
A16: 3.11 | D16: 0 | E16: 0 | F16: =D16*E16 -> 0 | G16: =D16*E16/60*$B$3 -> 0 | H16: 0 | I16: =$D$3 -> 0.2 | J16: =D16*H16*(1+$D$3) -> 0 | K16: =G16+J16 -> 0
A17: 3.12 | D17: 0 | E17: 0 | F17: =D17*E17 -> 0 | G17: =D17*E17/60*$B$3 -> 0 | H17: 0 | I17: =$D$3 -> 0.2 | J17: =D17*H17*(1+$D$3) -> 0 | K17: =G17+J17 -> 0
A18: 3.13 | D18: 0 | E18: 0 | F18: =D18*E18 -> 0 | G18: =D18*E18/60*$B$3 -> 0 | H18: 0 | I18: =$D$3 -> 0.2 | J18: =D18*H18*(1+$D$3) -> 0 | K18: =G18+J18 -> 0
A19: 3.14 | D19: 0 | E19: 0 | F19: =D19*E19 -> 0 | G19: =D19*E19/60*$B$3 -> 0 | H19: 0 | I19: =$D$3 -> 0.2 | J19: =D19*H19*(1+$D$3) -> 0 | K19: =G19+J19 -> 0
A20: SUM | B20: SUM RISIKO OG UFORUTSETTE KOSTNADER | F20: =SUM(F6:F19) -> 0 | G20: =SUM(G6:G19) -> 0 | J20: =SUM(J6:J19) -> 0 | K20: =SUM(K6:K19) -> 0
E21: Timer tot | F21: =F20/60 -> 0 | G21: =SUM(G20) -> 0
A23: VEILEDNING: TYPISKE ROT-RISIKOER OG ANBEFALT PÅSLAG
A24: Risikopost | B24: Typisk omfang | C24: Anbefalt påslag % | D24: Kommentar
A25: Råte/fukt | B25: Vanlig i bad/kjøkken > 20 år | C25: 10–25% | D25: Avdekkes ved riving
A26: Skjulte rørfeil | B26: Eldre bygg før 1990 | C26: 5–15% | D26: Særlig støpejern-avløp
A27: Konstruksjonsavvik | B27: Tilbygg/påbygg uten tegn. | C27: 5–10% | D27: Kontroller bærende
A28: Asbest | B28: Bygg fra 1940–1985 | C28: Fast RS | D28: Krev kartlegging
A29: Generelt | B29: Alle ROT-prosjekter | C29: 10–20% | D29: Legg inn kr-beløp

Sheet 04 Riving
A1: RIVING OG DEMONTERING
N2: =G28 -> 0
A3: Timepris kr/t: | B3: 700 | C3: Påslag annet %: | D3: 0.2 | N3: =J28 -> 0
N4: =K28 -> 0
A5: Post | B5: Beskrivelse | C5: Enh. | D5: Mengde | E5: Min/enh | F5: min total | G5: Timekost | H5: Pris annet pr mengde | I5: Påsl.% annet | J5: Mat.kost | K5: Sum
A6: 4.01 | B6: Riving av fliser vegger | C6: m2 | D6: 0 | E6: 40 | F6: =D6*E6 -> 0 | G6: =D6*E6/60*$B$3 -> 0 | H6: 0 | I6: =$D$3 -> 0.2 | J6: =D6*H6*(1+$D$3) -> 0 | K6: =G6+J6 -> 0
A7: 4.02 | B7: Riving av fliser gulv | C7: m2 | D7: 0 | E7: 35 | F7: =D7*E7 -> 0 | G7: =D7*E7/60*$B$3 -> 0 | H7: 0 | I7: =$D$3 -> 0.2 | J7: =D7*H7*(1+$D$3) -> 0 | K7: =G7+J7 -> 0
A8: 4.03 | B8: Riving av baderomsplater/membran | C8: m2 | D8: 0 | E8: 25 | F8: =D8*E8 -> 0 | G8: =D8*E8/60*$B$3 -> 0 | H8: 0 | I8: =$D$3 -> 0.2 | J8: =D8*H8*(1+$D$3) -> 0 | K8: =G8+J8 -> 0
A9: 4.04 | B9: Riving av innervegger lette | C9: m2 | D9: 0 | E9: 20 | F9: =D9*E9 -> 0 | G9: =D9*E9/60*$B$3 -> 0 | H9: 0 | I9: =$D$3 -> 0.2 | J9: =D9*H9*(1+$D$3) -> 0 | K9: =G9+J9 -> 0
A10: 4.05 | B10: Riving av innervegger bærende | C10: m2 | D10: 0 | E10: 35 | F10: =D10*E10 -> 0 | G10: =D10*E10/60*$B$3 -> 0 | H10: 4300 | I10: =$D$3 -> 0.2 | J10: =D10*H10*(1+$D$3) -> 0 | K10: =G10+J10 -> 0
A11: 4.06 | B11: Riving av himlingsplater/ panel | C11: m2 | D11: 0 | E11: 15 | F11: =D11*E11 -> 0 | G11: =D11*E11/60*$B$3 -> 0 | H11: 0 | I11: =$D$3 -> 0.2 | J11: =D11*H11*(1+$D$3) -> 0 | K11: =G11+J11 -> 0
A12: 4.07 | B12: Riving av gulvbelegg / parkett | C12: m2 | D12: 0 | E12: 10 | F12: =D12*E12 -> 0 | G12: =D12*E12/60*$B$3 -> 0 | H12: 0 | I12: =$D$3 -> 0.2 | J12: =D12*H12*(1+$D$3) -> 0 | K12: =G12+J12 -> 0
A13: 4.08 | B13: Demontering kjøkken komplett uten gjenbruk | C13: stk | D13: 0 | E13: 300 | F13: =D13*E13 -> 0 | G13: =D13*E13/60*$B$3 -> 0 | H13: 0 | I13: =$D$3 -> 0.2 | J13: =D13*H13*(1+$D$3) -> 0 | K13: =G13+J13 -> 0
A14: 4.09 | B14: Demontering bad komplett uten gjenbruk | C14: stk | D14: 0 | E14: 240 | F14: =D14*E14 -> 0 | G14: =D14*E14/60*$B$3 -> 0 | H14: 0 | I14: =$D$3 -> 0.2 | J14: =D14*H14*(1+$D$3) -> 0 | K14: =G14+J14 -> 0
A15: 4.10 | B15: Demontering ytterdør inkl karm uten gjenbruk | C15: stk | D15: 0 | E15: 45 | F15: =D15*E15 -> 0 | G15: =D15*E15/60*$B$3 -> 0 | H15: 0 | I15: =$D$3 -> 0.2 | J15: =D15*H15*(1+$D$3) -> 0 | K15: =G15+J15 -> 0
A16: 4.11 | B16: Demontering innerdør inkl karm uten gjenbruk | C16: stk | D16: 0 | E16: 30 | F16: =D16*E16 -> 0 | G16: =D16*E16/60*$B$3 -> 0 | H16: 0 | I16: =$D$3 -> 0.2 | J16: =D16*H16*(1+$D$3) -> 0 | K16: =G16+J16 -> 0
A17: 4.12 | B17: Demontering vinduer inkl karm uten gjenbruk | C17: stk | D17: 0 | E17: 45 | F17: =D17*E17 -> 0 | G17: =D17*E17/60*$B$3 -> 0 | H17: 0 | I17: =$D$3 -> 0.2 | J17: =D17*H17*(1+$D$3) -> 0 | K17: =G17+J17 -> 0
... A22: 4.17 | B22: Asbest-sanering (UE) | C22: RS | D22: 0 | E22: 0 | F22: =D22*E22 -> 0 | G22: =D22*E22/60*$B$3 -> 0 | H22: 0 | I22: =$D$3 -> 0.2 | J22: =D22*H22*(1+$D$3) -> 0 | K22: =G22+J22 -> 0
A23: 4.18 | D23: 0 | E23: 0 | F23: =D23*E23 -> 0 | G23: =D23*E23/60*$B$3 -> 0 | H23: 0 | I23: =$D$3 -> 0.2 | J23: =D23*H23*(1+$D$3) -> 0 | K23: =G23+J23 -> 0
A24: 4.19 | D24: 0 | E24: 10 | F24: =D24*E24 -> 0 | G24: =D24*E24/60*$B$3 -> 0 | H24: 0 | I24: =$D$3 -> 0.2 | J24: =D24*H24*(1+$D$3) -> 0 | K24: =G24+J24 -> 0
A25: 4.20 | D25: 0 | E25: 0 | F25: =D25*E25 -> 0 | G25: =D25*E25/60*$B$3 -> 0 | H25: 0 | I25: =$D$3 -> 0.2 | J25: =D25*H25*(1+$D$3) -> 0 | K25: =G25+J25 -> 0
A26: 4.21 | D26: 0 | E26: 0 | F26: =D26*E26 -> 0 | G26: =D26*E26/60*$B$3 -> 0 | H26: 0 | I26: =$D$3 -> 0.2 | J26: =D26*H26*(1+$D$3) -> 0 | K26: =G26+J26 -> 0
A27: 4.22 | D27: 0 | E27: 0 | F27: =D27*E27 -> 0 | G27: =D27*E27/60*$B$3 -> 0 | H27: 0 | I27: =$D$3 -> 0.2 | J27: =D27*H27*(1+$D$3) -> 0 | K27: =G27+J27 -> 0
A28: SUM | B28: SUM RIVING OG DEMONTERING | F28: =SUM(F6:F27) -> 0 | G28: =SUM(G6:G27) -> 0 | K28: =SUM(K15:K27) -> 0
E29: Timer | F29: =F28/60 -> 0 | G29: =SUM(G28) -> 0
A31: VEILEDENDE TIDSFORBRUK RIVING (min pr enhet)
A32: Varenr. | B32: Aktivitet | C32: Enh. | D32: Min/enh | E32: Kommentar | H32: Indikativ pris
B33: Riving fliser vegg | C33: m² | D33: 40 | E33: Inkl rensk av lim | H33: 0
B34: Riving fliser gulv | C34: m² | D34: 35 | E34: Inkl opprydding | H34: 0
B35: Riving gips vegg | C35: m² | D35: 20 | E35: Lett vegg | H35: 0
B36: Demontering kjøkken | C36: stk | D36: 180 | E36: Uten sortering hvitevarer | H36: 0
B37: Demontering bad komplett | C37: stk | D37: 240 | E37: Inkl utstyr og rør-stub | H37: 0
B38: Riving innervgg 98mm | C38: m² | D38: 25 | E38: Inkl demonterings-avfall | H38: 0
B39: Kasting i container | C39: m³ | D39: 30 | E39: Ca 0,1 m3 pr m2 riving
G40: Sum netto pr enhet | H40: =SUM(H33:H39) -> 0

Sheet 05 Tømrer
A1: TØMRERARBEIDER
N2: =G51 -> 0
A3: Timepris kr/t: | B3: 700 | C3: Påslag mat %: | D3: 0.2 | N3: =J51 -> 0
N4: =K51 -> 0
A5: Post | B5: Beskrivelse | C5: Enh. | D5: Mengde | E5: Min/enh | F5: Min total | G5: Timekost | H5: Mat.pris | I5: Påsl. Matr. | J5: Mat.kost | K5: Sum
A6: 5.01 | B6: Bjelkelag 300mm i-bjelke, spon, gips | C6: m² | D6: 0 | E6: =E62 -> 62 | F6: =D6*E6 -> 0 | G6: =D6*E6/60*$B$3 -> 0 | H6: =G62 -> 886.981 | I6: =$D$3 -> 0.2 | J6: =D6*H6*(1+$D$3) -> 0 | K6: =G6+J6 -> 0
A7: 5.02 | B7: Yttervegg tre 200mm komplett m/gips inv | C7: m² | D7: 0 | E7: =E77 -> 74 | F7: =D7*E7 -> 0 | G7: =D7*E7/60*$B$3 -> 0 | H7: =G77 -> 746.005 | I7: =$D$3 -> 0.2 | J7: =D7*H7*(1+$D$3) -> 0 | K7: =G7+J7 -> 0
A8: 5.03 | B8: Yttervegg tre 200+50mm komplett m/gips inv | C8: m² | D8: 0 | E8: =E95 -> 92 | F8: =D8*E8 -> 0 | G8: =D8*E8/60*$B$3 -> 0 | H8: =G95 -> 823.797 | I8: =$D$3 -> 0.2 | J8: =D8*H8*(1+$D$3) -> 0 | K8: =G8+J8 -> 0
A9: 5.04 | B9: Yttervegg tre 150+50mm kompl med gips inv | C9: m2 | D9: 0 | E9: =E113 -> 92 | F9: =D9*E9 -> 0 | G9: =D9*E9/60*$B$3 -> 0 | H9: =G113 -> 787.217 | I9: =$D$3 -> 0.2 | J9: =D9*H9*(1+$D$3) -> 0 | K9: =G9+J9 -> 0
A10: 5.05 | B10: Innvendig vegg 68mm m/gips begge sider | C10: m² | D10: 0 | E10: =E122 -> 44 | F10: =D10*E10 -> 0 | G10: =D10*E10/60*$B$3 -> 0 | H10: =G122 -> 210.071 | I10: =$D$3 -> 0.2 | J10: =D10*H10*(1+$D$3) -> 0 | K10: =G10+J10 -> 0
A11: 5.06 | B11: Innvendig vegg 98mm m/gips begge sider | C11: m² | D11: 0 | E11: =E131 -> 44 | F11: =D11*E11 -> 0 | G11: =D11*E11/60*$B$3 -> 0 | H11: =G131 -> 239.689 | I11: =$D$3 -> 0.2 | J11: =D11*H11*(1+$D$3) -> 0 | K11: =G11+J11 -> 0
A12: 5.07 | B12: Lydvegg 2x98mm m/dobbelt gips | C12: m² | D12: 0 | E12: =E155 -> 111 | F12: =D12*E12 -> 0 | G12: =D12*E12/60*$B$3 -> 0 | H12: =G155 -> 582.611 | I12: =$D$3 -> 0.2 | J12: =D12*H12*(1+$D$3) -> 0 | K12: =G12+J12 -> 0
A13: 5.08 | B13: Etterisolering 100mm innvendig | C13: m2 | D13: 0 | E13: =E163 -> 40 | F13: =D13*E13 -> 0 | G13: =D13*E13/60*$B$3 -> 0 | H13: =G163 -> 216.5886 | I13: =$D$3 -> 0.2 | J13: =D13*H13*(1+$D$3) -> 0 | K13: =G13+J13 -> 0
A14: 5.09 | B14: Etterisolering 150mm utvendig | C14: m2 | D14: 0 | E14: =E173 -> 64 | F14: =D14*E14 -> 0 | G14: =D14*E14/60*$B$3 -> 0 | H14: =G173 -> 516.702 | I14: =$D$3 -> 0.2 | J14: =D14*H14*(1+$D$3) -> 0 | K14: =G14+J14 -> 0
A15: 5.10 | B15: Etterisolering kaldt loft 200mm | C15: m2 | D15: 0 | E15: =E178 -> 23 | F15: =D15*E15 -> 0 | G15: =D15*E15/60*$B$3 -> 0 | H15: =G178 -> 179.93 | I15: =$D$3 -> 0.2 | J15: =D15*H15*(1+$D$3) -> 0 | K15: =G15+J15 -> 0
A16: 5.11 | B16: Luftet takkonstruksjon 350mm | C16: m2 | D16: 0 | E16: =E193 -> 129 | F16: =D16*E16 -> 0 | G16: =D16*E16/60*$B$3 -> 0 | H16: =G193 -> 2393.0451 | I16: =$D$3 -> 0.2 | J16: =D16*H16*(1+$D$3) -> 0 | K16: =G16+J16 -> 0
A17: 5.12 | B17: Takshingel | C17: m2 | D17: 0 | E17: =E198 -> 45 | F17: =D17*E17 -> 0 | G17: =D17*E17/60*$B$3 -> 0 | H17: =G198 -> 103.725 | I17: =$D$3 -> 0.2 | J17: =D17*H17*(1+$D$3) -> 0 | K17: =G17+J17 -> 0
A18: 5.13 | B18: Gavlutstikk med vindskier og gesimskasse | C18: lm | D18: 0 | E18: =E207 -> 43 | F18: =D18*E18 -> 0 | G18: =D18*E18/60*$B$3 -> 0 | H18: =G207 -> 216.4735 | I18: =$D$3 -> 0.2 | J18: =D18*H18*(1+$D$3) -> 0 | K18: =G18+J18 -> 0
A19: 5.14 | B19: Forkantbord | C19: lm | D19: 0 | E19: =E212 -> 8 | F19: =D19*E19 -> 0 | G19: =D19*E19/60*$B$3 -> 0 | H19: =G212 -> 30.58 | I19: =$D$3 -> 0.2 | J19: =D19*H19*(1+$D$3) -> 0 | K19: =G19+J19 -> 0
A20: 5.15 | B20: Stigetrinn | C20: stk | D20: 0 | E20: =E217 -> 12 | F20: =D20*E20 -> 0 | G20: =D20*E20/60*$B$3 -> 0 | H20: =G217 -> 232 | I20: =$D$3 -> 0.2 | J20: =D20*H20*(1+$D$3) -> 0 | K20: =G20+J20 -> 0
A21: 5.16 | B21: Snefangere | C21: lm | D21: 0 | E21: =E222 -> 12 | F21: =D21*E21 -> 0 | G21: =D21*E21/60*$B$3 -> 0 | H21: =G222 -> 275 | I21: =$D$3 -> 0.2 | J21: =D21*H21*(1+$D$3) -> 0 | K21: =G21+J21 -> 0
A22: 5.17 | B22: Powertekk takplater sort | C22: m2 | D22: 0 | E22: =E228 -> 43 | F22: =D22*E22 -> 0 | G22: =D22*E22/60*$B$3 -> 0 | H22: =G228 -> 417.6 | I22: =$D$3 -> 0.2 | J22: =D22*H22*(1+$D$3) -> 0 | K22: =G22+J22 -> 0
A23: 5.18 | B23: Gradrenne | C23: lm | D23: 0 | E23: =E233 -> 9 | F23: =D23*E23 -> 0 | G23: =D23*E23/60*$B$3 -> 0 | H23: =G233 -> 261.25 | I23: =$D$3 -> 0.2 | J23: =D23*H23*(1+$D$3) -> 0 | K23: =G23+J23 -> 0
A24: 5.19 | B24: Tak tekking komplett med betongstein | C24: m2 | D24: 0 | E24: =E241 -> 52 | F24: =D24*E24 -> 0 | G24: =D24*E24/60*$B$3 -> 0 | H24: =G241 -> 329.294 | I24: =$D$3 -> 0.2 | J24: =D24*H24*(1+$D$3) -> 0 | K24: =G24+J24 -> 0
A25: 5.20 | B25: Takrenner | C25: lm | D25: 0 | E25: =E251 -> 43 | F25: =D25*E25 -> 0 | G25: =D25*E25/60*$B$3 -> 0 | H25: =G251 -> 312.908 | I25: =$D$3 -> 0.2 | J25: =D25*H25*(1+$D$3) -> 0 | K25: =G25+J25 -> 0
A26: 5.21 | B26: Nedløp | C26: lm | D26: 0 | E26: =E259 -> 36 | F26: =D26*E26 -> 0 | G26: =D26*E26/60*$B$3 -> 0 | H26: =G259 -> 304.1372 | I26: =$D$3 -> 0.2 | J26: =D26*H26*(1+$D$3) -> 0 | K26: =G26+J26 -> 0
A27: 5.22 | B27: Terrasse 28x120 på tilfarere u/pilarer | C27: m2 | D27: 0 | E27: =E265 -> 57 | F27: =D27*E27 -> 0 | G27: =D27*E27/60*$B$3 -> 0 | H27: =G265 -> 409.53 | I27: =$D$3 -> 0.2 | J27: =D27*H27*(1+$D$3) -> 0 | K27: =G27+J27 -> 0
A28: 5.23 | B28: Rekkverk terrasse | C28: lm | D28: 0 | E28: =E274 -> 59 | F28: =D28*E28 -> 0 | G28: =D28*E28/60*$B$3 -> 0 | H28: =G274 -> 364.47 | I28: =$D$3 -> 0.2 | J28: =D28*H28*(1+$D$3) -> 0 | K28: =G28+J28 -> 0
A29: 5.24 | B29: Walls to paint plater vegg innvendig | C29: m2 | D29: 0 | E29: =E279 -> 15 | F29: =D29*E29 -> 0 | G29: =D29*E29/60*$B$3 -> 0 | H29: =G279 -> 222.6 | I29: =$D$3 -> 0.2 | J29: =D29*H29*(1+$D$3) -> 0 | K29: =G29+J29 -> 0
A30: 5.25 | B30: Gipsplate 13mm plan 4 fals i himling | C30: m2 | D30: 0 | E30: =E286 -> 30 | F30: =D30*E30 -> 0 | G30: =D30*E30/60*$B$3 -> 0 | H30: =G286 -> 154.611 | I30: =$D$3 -> 0.2 | J30: =D30*H30*(1+$D$3) -> 0 | K30: =G30+J30 -> 0
A31: 5.26 | B31: Standard vindu 119x119 hvit komplett | C31: stk | D31: 0 | E31: =E297 -> 166 | F31: =D31*E31 -> 0 | G31: =D31*E31/60*$B$3 -> 0 | H31: =G297 -> 8063.783 | I31: =$D$3 -> 0.2 | J31: =D31*H31*(1+$D$3) -> 0 | K31: =G31+J31 -> 0
A32: 5.27 | B32: Ytterdør 10x21 Opus komplett | C32: stk | D32: 0 | E32: =E309 -> 247 | F32: =D32*E32 -> 0 | G32: =D32*E32/60*$B$3 -> 0 | H32: =G309 -> 7771.511 | I32: =$D$3 -> 0.2 | J32: =D32*H32*(1+$D$3) -> 0 | K32: =G32+J32 -> 0
A33: 5.28 | B33: Innerdør 90x21 Opus komplett | C33: stk | D33: 0 | E33: =E318 -> 97 | F33: =D33*E33 -> 0 | G33: =D33*E33/60*$B$3 -> 0 | H33: =G318 -> 2354.08 | I33: =$D$3 -> 0.2 | J33: =D33*H33*(1+$D$3) -> 0 | K33: =G33+J33 -> 0
A34: 5.29 | B34: Parkett Opus | C34: m2 | D34: 0 | E34: =E324 -> 26 | F34: =D34*E34 -> 0 | G34: =D34*E34/60*$B$3 -> 0 | H34: =G324 -> 469.074 | I34: =$D$3 -> 0.2 | J34: =D34*H34*(1+$D$3) -> 0 | K34: =G34+J34 -> 0
A35: 5.30 | B35: Taklist 21x34 hvitmalt | C35: lm | D35: 0 | E35: =E328 -> 10 | F35: =D35*E35 -> 0 | G35: =D35*E35/60*$B$3 -> 0 | H35: =G328 -> 46.095 | I35: =$D$3 -> 0.2 | J35: =D35*H35*(1+$D$3) -> 0 | K35: =G35+J35 -> 0
A36: 5.31 | B36: Fotlist 12x58 hvitmalt | C36: lm | D36: 0 | E36: =E332 -> 8 | F36: =D36*E36 -> 0 | G36: =D36*E36/60*$B$3 -> 0 | H36: =G332 -> 42.9975 | I36: =$D$3 -> 0.2 | J36: =D36*H36*(1+$D$3) -> 0 | K36: =G36+J36 -> 0
A37: 5.32 | B37: Kjøkken ferdig montert (UE/leverandør) | C37: RS | D37: 0 | E37: 0 | F37: =D37*E37 -> 0 | G37: =D37*E37/60*$B$3 -> 0 | H37: 0 | I37: =$D$3 -> 0.2 | J37: =D37*H37*(1+$D$3) -> 0 | K37: =G37+J37 -> 0
A38: 5.33 | B38: Trapp komplett ferdig montert (UE) | C38: RS | D38: 0 | E38: 0 | F38: =D38*E38 -> 0 | G38: =D38*E38/60*$B$3 -> 0 | H38: 0 | I38: =$D$3 -> 0.2 | J38: =D38*H38*(1+$D$3) -> 0 | K38: =G38+J38 -> 0
A39: 5.34 | B39: Garderobeskap Opus 100x210 | C39: stk | D39: 0 | E39: 90 | F39: =D39*E39 -> 0 | G39: =D39*E39/60*$B$3 -> 0 | H39: 1326 | I39: =$D$3 -> 0.2 | J39: =D39*H39*(1+$D$3) -> 0 | K39: =G39+J39 -> 0
A40: 5.35 | B40: FESTEMIDLER TIL HELE PROSJEKTET | C40: RS | D40: 0 | E40: 0 | F40: =D40*E40 -> 0 | G40: =D40*E40/60*$B$3 -> 0 | H40: 0 | I40: =$D$3 -> 0.2 | J40: =D40*H40*(1+$D$3) -> 0 | K40: =G40+J40 -> 0
D41: 0 | E41: 0 | F41: =D41*E41 -> 0 | G41: =D41*E41/60*$B$3 -> 0 | H41: 0 | I41: =$D$3 -> 0.2 | J41: =D41*H41*(1+$D$3) -> 0 | K41: =G41+J41 -> 0
D42: 0 | E42: 0 | F42: =D42*E42 -> 0 | G42: =D42*E42/60*$B$3 -> 0 | H42: 0 | I42: =$D$3 -> 0.2 | J42: =D42*H42*(1+$D$3) -> 0 | K42: =G42+J42 -> 0
D43: 0 | E43: 0 | F43: =D43*E43 -> 0 | G43: =D43*E43/60*$B$3 -> 0 | H43: 0 | I43: =$D$3 -> 0.2 | J43: =D43*H43*(1+$D$3) -> 0 | K43: =G43+J43 -> 0
D44: 0 | E44: 0 | F44: =D44*E44 -> 0 | G44: =D44*E44/60*$B$3 -> 0 | H44: 0 | I44: =$D$3 -> 0.2 | J44: =D44*H44*(1+$D$3) -> 0 | K44: =G44+J44 -> 0
D45: 0 | E45: 0 | F45: =D45*E45 -> 0 | G45: =D45*E45/60*$B$3 -> 0 | H45: 0 | I45: =$D$3 -> 0.2 | J45: =D45*H45*(1+$D$3) -> 0 | K45: =G45+J45 -> 0
D46: 0 | E46: 0 | F46: =D46*E46 -> 0 | G46: =D46*E46/60*$B$3 -> 0 | H46: 0 | I46: =$D$3 -> 0.2 | J46: =D46*H46*(1+$D$3) -> 0 | K46: =G46+J46 -> 0
D47: 0 | E47: 0 | F47: =D47*E47 -> 0 | G47: =D47*E47/60*$B$3 -> 0 | H47: 0 | I47: =$D$3 -> 0.2 | J47: =D47*H47*(1+$D$3) -> 0 | K47: =G47+J47 -> 0
D48: 0 | E48: 0 | F48: =D48*E48 -> 0 | G48: =D48*E48/60*$B$3 -> 0 | H48: 0 | I48: =$D$3 -> 0.2 | J48: =D48*H48*(1+$D$3) -> 0 | K48: =G48+J48 -> 0
D49: 0 | E49: 0 | F49: =D49*E49 -> 0 | G49: =D49*E49/60*$B$3 -> 0 | H49: 0 | I49: =$D$3 -> 0.2 | J49: =D49*H49*(1+$D$3) -> 0 | K49: =G49+J49 -> 0
D50: 0 | E50: 0 | F50: =D50*E50 -> 0 | G50: =D50*E50/60*$B$3 -> 0 | H50: 0 | I50: =$D$3 -> 0.2 | J50: =D50*H50*(1+$D$3) -> 0 | K50: =G50+J50 -> 0
A51: SUM | B51: SUM TØMRERARBEIDER | F51: =SUM(F6:F50) -> 0 | J51: =SUM(J6:J50) -> 0 | K51: =SUM(K6:K50) -> 0
E52: Timer tot | F52: =F51/60 -> 0 | G52: =SUM(G6:G51) -> 0
A54: Post | B54: Betegnelse | C54: Enh. | D54: E. mengde pr enhet | E54: E. tid (min) | F54: enhet pris matr | G54: pris pr enhet matr
A55: 5.01 | B55: BJELKELAG/ GULV PR M2
B56: senteravstand c/c 600mm, 22mm gulvspon, isolert med 200mm Glava 38, I-bjelke 300mm, nedlektet og gipset med Plan 4 fals gips
B57: SPONPL GULV EX 22X620X2420 P5 | C57: m² | D57: 1.1 | E57: 10 | F57: 205 | G57: =D57*F57 -> 225.5
B58: HUNTON I-BJELKE SJ60/300 MM | C58: LM | D58: 2.1 | E58: 18 | F58: 181 | G58: =D58*F58 -> 380.1
B59: GLAVA ØKONOMI 38 PLATE 200 MM | C59: M2 | D59: 1 | E59: 7 | F59: 130 | G59: =D59*F59 -> 130
B60: G-F 23X048 LEKT/REKKE KL1 | C60: LM | D60: 2.3 | E60: 7 | F60: 7.47 | G60: =D60*F60 -> 17.181
B61: GIPSPL PLAN 1200X2400X12,5 | C61: M2 | D61: 1.1 | E61: 20 | F61: 122 | G61: =D61*F61 -> 134.2
B62: SUM | E62: =SUM(E57:E61) -> 62 | G62: =SUM(G57:G61) -> 886.981
A63: Post | B63: Betegnelse | C63: Enh. | D63: E. mengde pr enhet | E63: E. tid (min) | F63: enhet pris matr | G63: pris pr enhet matr
A64: 5.02 | B64: 200MM YTTERVEGG PR M2
B65: Senteravstand c/c 600mm
B66: 200mm vegg med gips innvendig,
B67: dobbelt vindtetting og liggende
B68: grunnet kledning utvendig.
B69: GIPSPL GN13 12,5X1200X2400 | C69: m² | D69: 1.1 | E69: 10 | F69: 44 | G69: =D69*F69 -> 48.4
B70: ULTIPRO DAMPSPERRE 0,15MM 2,6M | C70: RUL | D70: 0.03 | E70: 3 | F70: 311 | G70: =D70*F70 -> 9.33
B71: GRAN 48X198 K-VIRKE C24 LP | C71: LM | D71: 3.1 | E71: 18 | F71: 50.2 | G71: =D71*F71 -> 155.62
B72: GLAVA PROFF 34 PLATE 200X570X1 | C72: M2 | D72: 1 | E72: 7 | F72: 154.73 | G72: =D72*F72 -> 154.73
B73: HUNTON VINDSPERRE 12X1200X2740 | C73: m² | D73: 1.2 | E73: 12 | F73: 79.92 | G73: =D73*F73 -> 95.904
B74: ULTIPRO VINDSPERRE 2,8X25M | C74: m2 | D74: 1.1 | E74: 3 | F74: 26.25 | G74: =D74*F74 -> 28.875
B75: G-F 23X048 LEKT/REKKE KL1 | C75: LM | D75: 3 | E75: 3 | F75: 7.47 | G75: =D75*F75 -> 22.41
B76: GRAN 19X148 D FALS 60 GR STD | C76: LM | D76: 9.2 | E76: 18 | F76: 25.08 | G76: =D76*F76 -> 230.736
B77: SUM | E77: =SUM(E69:E76) -> 74 | G77: =SUM(G69:G76) -> 746.005
A78: Post | B78: Betegnelse | C78: Enh. | D78: E. mengde pr enhet | E78: E. tid (min) | F78: enhet pris matr | G78: pris pr enhet matr
A79: 5.03 | B79: 200MM+ 50MM Y VEGG PR M2
B80: senteravstand c/c 600mm
B81: 200 + 50 mm yttervegg meg gips
B82: innvendig, dobbelt vindsperre og
B83: liggende grunnet kledning
B84: utvendig
B85: GIPSPL GN13 12,5X1200X2400 | C85: m² | D85: 1.05 | E85: 10 | F85: 44 | G85: =F85*D85 -> 46.2
B86: ULTIPRO DAMPSPERRE 0,15MM 2,6M | C86: RUL | D86: 0.03 | E86: 3 | F86: 311 | G86: =F86*D86 -> 9.33
B87: GRAN 48X198 K-VIRKE C24 | C87: LM | D87: 3.1 | E87: 18 | F87: 50.2 | G87: =F87*D87 -> 155.62
B88: G-F 48X048 LEKT/REKKE KL1 | C88: LM | D88: 3.1 | E88: 14 | F88: 13.74 | G88: =F88*D88 -> 42.594
B89: GLAVA PROFF 34 RULL 50X560X920 | C89: M2 | D89: 1 | E89: 4 | F89: 41.88 | G89: =F89*D89 -> 41.88
B90: GLAVA PROFF 34 PLATE 200X570X1 | C90: M2 | D90: 1 | E90: 7 | F90: 154.73 | G90: =F90*D90 -> 154.73
B91: HUNTON VINDSPERRE 12X1200X2740 | C91: m² | D91: 1.2 | E91: 12 | F91: 79.92 | G91: =D91*F91 -> 95.904
B92: ULTIPRO VINDSPERRE 2,8X25M | C92: m2 | D92: 1.1 | E92: 3 | F92: 26.25 | G92: =D92*F92 -> 28.875
B93: G-F 23X048 LEKT/REKKE KL1 | C93: LM | D93: 2.4 | E93: 3 | F93: 7.47 | G93: =F93*D93 -> 17.928
B94: GRAN 19X148 D FALS 60 GR STD | C94: LM | D94: 9.2 | E94: 18 | F94: 25.08 | G94: =F94*D94 -> 230.736
B95: SUM | E95: =SUM(E85:E94) -> 92 | G95: =SUM(G85:G94) -> 823.797
A96: Post | B96: Betegnelse | C96: Enh. | D96: E. mengde pr enhet | E96: E. tid (min) | F96: enhet pris matr | G96: pris pr enhet matr
A97: 5.04 | B97: 150MM+ 50MM Y VEGG PR M2
B98: senteravstand c/c 600mm
B99: 150 + 50 mm yttervegg meg gips
B100: innvendig, dobbelt vindsperre og
B101: liggende grunnet kledning
...

Sheet 06 Betong
A1: BETONG OG GRUNNARBEIDER
N2: =G18 -> 0
A3: Timepris kr/t: | B3: 700 | C3: Påslag mat %: | D3: 0.2 | N3: =J18 -> 0
N4: =K18 -> 0
A5: Post | B5: Beskrivelse | C5: Enh. | D5: Mengde | E5: Min/enh | F5: Min total | G5: Timekost | H5: Mat.pris | I5: Påsl.% | J5: Mat.kost | K5: Sum
A6: 6.01 | B6: Gulv bolig 10cm m/radonduk, arm, EPS | C6: m² | D6: 0 | E6: =E28 -> 55 | F6: =D6*E6 -> 0 | G6: =D6*E6/60*$B$3 -> 0 | H6: =G28 -> 1093.94 | I6: =$D$3 -> 0.2 | J6: =D6*H6*(1+$D$3) -> 0 | K6: =G6+J6 -> 0
A7: 6.02 | B7: Ringmur Jacon RU45 inkl såleblokk | C7: lm | D7: 0 | E7: =E36 -> 49 | F7: =D7*E7 -> 0 | G7: =D7*E7/60*$B$3 -> 0 | H7: =G36 -> 1413.8 | I7: =$D$3 -> 0.2 | J7: =D7*H7*(1+$D$3) -> 0 | K7: =G7+J7 -> 0
A8: 6.03 | B8: Støpt søylefundament terrasse | C8: stk | D8: 0 | E8: =E43 -> 120 | F8: =D8*E8 -> 0 | G8: =D8*E8/60*$B$3 -> 0 | H8: =G43 -> 918 | I8: =$D$3 -> 0.2 | J8: =D8*H8*(1+$D$3) -> 0 | K8: =G8+J8 -> 0
A9: 6.04 | B9: Garasjegulv 10cm m/EPS 100mm | C9: m² | D9: 0 | E9: =E51 -> 39 | F9: =D9*E9 -> 0 | G9: =D9*E9/60*$B$3 -> 0 | H9: =G51 -> 874.696 | I9: =$D$3 -> 0.2 | J9: =D9*H9*(1+$D$3) -> 0 | K9: =G9+J9 -> 0
A10: 6.05 | B10: Ringmur garasje VRG-450 åpne | C10: lm | D10: 0 | E10: =E57 -> 26 | F10: =D10*E10 -> 0 | G10: =D10*E10/60*$B$3 -> 0 | H10: =G57 -> 754 | I10: =$D$3 -> 0.2 | J10: =D10*H10*(1+$D$3) -> 0 | K10: =G10+J10 -> 0
A11: 6.06 | B11: Jackon thermomur 350 komplett | C11: m² | D11: 0 | E11: =E77 -> 183 | F11: =D11*E11 -> 0 | G11: =D11*E11/60*$B$3 -> 0 | H11: =G77 -> 3473.5462 | I11: =$D$3 -> 0.2 | J11: =D11*H11*(1+$D$3) -> 0 | K11: =G11+J11 -> 0
D12: 0 | E12: 0 | F12: =D12*E12 -> 0 | G12: =D12*E12/60*$B$3 -> 0 | H12: 0 | I12: =$D$3 -> 0.2 | J12: =D12*H12*(1+$D$3) -> 0 | K12: =G12+J12 -> 0
D13: 0 | E13: 0 | F13: =D13*E13 -> 0 | G13: =D13*E13/60*$B$3 -> 0 | H13: 0 | I13: =$D$3 -> 0.2 | J13: =D13*H13*(1+$D$3) -> 0 | K13: =G13+J13 -> 0
D14: 0 | E14: 0 | F14: =D14*E14 -> 0 | G14: =D14*E14/60*$B$3 -> 0 | H14: 0 | I14: =$D$3 -> 0.2 | J14: =D14*H14*(1+$D$3) -> 0 | K14: =G14+J14 -> 0
D15: 0 | E15: 0 | F15: =D15*E15 -> 0 | G15: =D15*E15/60*$B$3 -> 0 | H15: 0 | I15: =$D$3 -> 0.2 | J15: =D15*H15*(1+$D$3) -> 0 | K15: =G15+J15 -> 0
D16: 0 | E16: 0 | F16: =D16*E16 -> 0 | G16: =D16*E16/60*$B$3 -> 0 | H16: 0 | I16: =$D$3 -> 0.2 | J16: =D16*H16*(1+$D$3) -> 0 | K16: =G16+J16 -> 0
D17: 0 | E17: 0 | F17: =D17*E17 -> 0 | G17: =D17*E17/60*$B$3 -> 0 | H17: 0 | I17: =$D$3 -> 0.2 | J17: =D17*H17*(1+$D$3) -> 0 | K17: =G17+J17 -> 0
A18: SUM | B18: SUM BETONG OG GRUNNARBEIDER | F18: =SUM(F6:F17) -> 0 | G18: =SUM(G6:G17) -> 0 | J18: =SUM(J6:J17) -> 0 | K18: =SUM(K6:K17) -> 0
E19: Timer | F19: =F18/60 -> 0 | G19: =SUM(G18) -> 0
A21: UNDERLAG: MATERIALLISTE OG TID NETTOPRIS GULV BOLIG (pr m²)
A22: Varenr. | B22: Varetekst | C22: ENH | D22: PR ENHET | E22: TID PR ENHET | F22: ENHETS PRIS | G22: PRIS MATR PR ENHET
A23: 6.01 | B23: FERDIGBETONG B35 PR M3 – gulv bolig | C23: m³ | D23: 0.11 | E23: 21 | F23: 2500 | G23: =F23*D23 -> 275
B24: Pumpebil betong – gulv | C24: stk | D24: 0.03 | E24: 0 | F24: 4000 | G24: =F24*D24 -> 120
B25: ISOLA RADONSPERRE 400 4X25M | C25: m² | D25: 1.1 | E25: 15 | F25: 75 | G25: =F25*D25 -> 82.5
B26: ARMERINGSNETT K131 2X5M | C26: m² | D26: 1.1 | E26: 8 | F26: 47.4 | G26: =F26*D26 -> 52.14
B27: ISOLASJON EPS 100MM S80 STORE | C27: m² | D27: 3.3 | E27: 11 | F27: 171 | G27: =F27*D27 -> 564.3
A28: SUM | E28: =SUM(E23:E27) -> 55 | G28: =SUM(G23:G27) -> 1093.94
A30: UNDERLAG: MATERIALLISTE OG TID NETTOPRIS RINGMUR PR LM
A31: Varenr. | B31: Varetekst | C31: ENH | D31: PR ENHET | E31: TID PR ENHET | F31: ENHETS PRIS | G31: PRIS MATR PR ENHET
A32: 6.02 | B32: FERDIGBETONG B35 PR M3 – ringmur | C32: m³ | D32: 0.15 | E32: 21 | F32: 2500 | G32: =F32*D32 -> 375
B33: Pumpebil betong – ringmur | C33: stk | D33: 0.025 | E33: 0 | F33: 4000 | G33: =F33*D33 -> 100
B34: Jacon RU45 + Såleblokk (DIREKTE LEV) | C34: lm | D34: 0.9 | E34: 20 | F34: 942 | G34: =F34*D34 -> 847.8
B35: ARMERINGSSTÅL 12MM K400/500 TS PR LM | C35: lm | D35: 7 | E35: 8 | F35: 13 | G35: =F35*D35 -> 91
A36: SUM | E36: =SUM(E32:E35) -> 49 | G36: =SUM(G32:G35) -> 1413.8
A38: UNDERLAG: STØPT PILAR PÅ FERDIG KOMPRIMERT UNDERLAG / NEDGRAVD TIL TELEFRITT (pr stk)
A39: Varenr. | B39: Varetekst | C39: ENH | D39: PR ENHET | E39: TID PR ENHET | F39: ENHETS PRIS | G39: PRIS MATR PR ENHET
A40: 6.03 | B40: BJELKESKO SØYLE STØPT FAST | C40: stk | D40: 1 | E40: 10 | F40: 405 | G40: =F40*D40 -> 405
B41: ULTIPRO STØPERØR 1,2 M Ø300MM | C41: stk | D41: 1 | E41: 80 | F41: 313 | G41: =F41*D41 -> 313
B42: FERDIGBETONG B25 PR M3 | C42: m³ | D42: 0.08 | E42: 30 | F42: 2500 | G42: =F42*D42 -> 200
A43: SUM | E43: =SUM(E40:E42) -> 120 | G43: =SUM(G40:G42) -> 918
A45: UNDERLAG: MATERIALLISTE OG TID NETTOPRIS GARASJEGULV (pr m²)
A46: Varenr. | B46: Varetekst | C46: ENH | D46: PR ENHET | E46: TID PR ENHET | F46: ENHETS PRIS | G46: PRIS MATR PR ENHET
A47: 6.04 | B47: FERDIGBETONG B35 PR M3 | C47: m³ | D47: 0.11 | E47: 21 | F47: 2500 | G47: =F47*D47 -> 275
B48: ARMERINGSNETT K131 2X5M | C48: m² | D48: 1.1 | E48: 4 | F48: 47.4 | G48: =F48*D48 -> 52.14
B49: FUKTSPERRE 200MY 4,0X25M FP | C49: m² | D49: 0.008 | E49: 4 | F49: 2032 | G49: =F49*D49 -> 16.256
B50: ISOLASJON EPS 100MM S80 STORE | C50: m² | D50: 3.3 | E50: 10 | F50: 161 | G50: =F50*D50 -> 531.3
A51: SUM | E51: =SUM(E47:E50) -> 39 | G51: =SUM(G47:G50) -> 874.696
A53: UNDERLAG: MATERIALLISTE OG TID NETTOPRIS RINGMUR GARASJEGULV PR LM
A54: Varenr. | B54: Varetekst | C54: ENH | D54: PR ENHET | E54: TID PR ENHET | F54: ENHETS PRIS | G54: PRIS MATR PR ENHET
A55: 6.05 | B55: RINGMUR GARASJE VRG-450 ÅPNE (DIR LEV) | C55: lm | D55: 1 | E55: 18 | F55: 663 | G55: =F55*D55 -> 663
B56: ARMERINGSSTÅL 12MM K400/500 TS PR LM | C56: lm | D56: 7 | E56: 8 | F56: 13 | G56: =F56*D56 -> 91
A57: SUM | E57: =SUM(E55:E56) -> 26 | G57: =SUM(G55:G56) -> 754
A59: UNDERLAG: JACKON THERMOMUR 350 komplett (pr m²)
A60: Varenr. | B60: Varetekst | C60: ENH | D60: PR ENHET | E60: TID PR ENHET | F60: ENHETS PRIS | G60: PRIS PR ENHET
A61: 6.06 | B61: Gipspl std 120x239 | C61: m² | D61: 1.05 | E61: 10 | F61: 43.66 | G61: =F61*D61 -> 45.843
B62: 48x48 utlekting | C62: lm | D62: 3.1 | E62: 15 | F62: 13.74 | G62: =F62*D62 -> 42.594
B63: Thermomur hjørne venstre | C63: stk | D63: 0.1 | E63: 12 | F63: 586 | G63: =F63*D63 -> 58.6
B64: Thermomur hjørne høyre | C64: stk | D64: 0.1 | E64: 12 | F64: 586 | G64: =F64*D64 -> 58.6
B65: Thermomur såleblokk 400 std | C65: stk | D65: 0.35 | E65: 8 | F65: 288 | G65: =F65*D65 -> 100.8
B66: Thermomur såleblokk 400 endestykke | C66: stk | D66: 0.08 | E66: 2 | F66: 34.4 | G66: =F66*D66 -> 2.752
B67: Thermomur 350 standardblokk | C67: stk | D67: 1.35 | E67: 30 | F67: 1290 | G67: =F67*D67 -> 1741.5
B68: Thermomur bjelkelagsblokk | C68: stk | D68: 0.4 | E68: 12 | F68: 1469 | G68: =F68*D68 -> 587.6
B69: Forskalingsbøyler 350 L575 | C69: stk | D69: 0.03 | E69: 5 | F69: 222.75 | G69: =F69*D69 -> 6.6825
B70: Montasjeskum Jackonmur | C70: stk | D70: 0.05 | E70: 10 | F70: 61.45 | G70: =F70*D70 -> 3.0725
B71: Betong B35 | C71: m³ | D71: 0.15 | E71: 15 | F71: 2500 | G71: =F71*D71 -> 375
B72: Pumpebil til betong | C72: stk | D72: 0.035 | E72: 0 | F72: 4000 | G72: =F72*D72 -> 140
B73: Armeringsstål 12mm | C73: lm | D73: 7 | E73: 4 | F73: 13 | G73: =F73*D73 -> 91
... B76: WEBER THERM ARM NETT 50M2 RL | C76: rl | D76: 0.02 | E76: 10 | F76: 1579.16 | G76: =F76*D76 -> 31.5832
A77: SUM | E77: =SUM(E61:E76) -> 183 | G77: =SUM(G61:G76) -> 3473.5462

Sheet 07 Våtrom
A1: VÅTROM
N2: =G21 -> 0
A3: Timepris kr/t: | B3: 700 | C3: Påslag mat %: | D3: 0.2 | N3: =J21 -> 0
N4: =K21 -> 0
A5: Post | B5: Beskrivelse | C5: Enh. | D5: Mengde | E5: Min/enh | F5: Min total | G5: Timekost | H5: Mat.pris | I5: Påsl.% | J5: Mat.kost | K5: Sum
A7: 7.01 | B7: Fliser gulv bad komplett | C7: m² | D7: 0 | E7: =E36 -> 135 | F7: =E7*D7 -> 0 | G7: =D7*E7/60*$B$3 -> 0 | H7: =H36 -> 913.17 | I7: =$D$3 -> 0.2 | J7: =D7*H7*(1+$D$3) -> 0 | K7: =G7+J7 -> 0
A8: 7.02 | B8: Fliser vegg bad komplett | C8: m² | D8: 0 | E8: =E48 -> 112 | F8: =E8*D8 -> 0 | G8: =D8*E8/60*$B$3 -> 0 | H8: =H48 -> 1498.401 | I8: =$D$3 -> 0.2 | J8: =D8*H8*(1+$D$3) -> 0 | K8: =G8+J8 -> 0
A9: 7.03 | B9: Innsparkling VK våtrom | C9: m² | D9: 0 | E9: =E54 -> 47 | F9: =E9*D9 -> 0 | G9: =D9*E9/60*$B$3 -> 0 | H9: =H54 -> 1006.53 | I9: =$D$3 -> 0.2 | J9: =D9*H9*(1+$D$3) -> 0 | K9: =G9+J9 -> 0
A10: 7.04 | B10: Fliser gulv tørt rom 30x30 | C10: m² | D10: 0 | E10: =E62 -> 72 | F10: =E10*D10 -> 0 | G10: =D10*E10/60*$B$3 -> 0 | H10: =H62 -> 542.483 | I10: =$D$3 -> 0.2 | J10: =D10*H10*(1+$D$3) -> 0 | K10: =G10+J10 -> 0
A11: 7.05 | B11: Bad komplett renovering 8m² (se underlag) | C11: stk | D11: 0 | E11: =F68 -> 4216 | F11: =E11*D11 -> 0 | G11: =D11*E11/60*$B$3 -> 0 | H11: =H68 -> 49260.588 | I11: =$D$3 -> 0.2 | J11: =D11*H11*(1+$D$3) -> 0 | K11: =G11+J11 -> 0
D12: 0 | E12: 0 | F12: =E12*D12 -> 0 | G12: =D12*E12/60*$B$3 -> 0 | H12: 0 | I12: =$D$3 -> 0.2 | J12: =D12*H12*(1+$D$3) -> 0 | K12: =G12+J12 -> 0
D13: 0 | E13: 0 | F13: =E13*D13 -> 0 | G13: =D13*E13/60*$B$3 -> 0 | H13: 0 | I13: =$D$3 -> 0.2 | J13: =D13*H13*(1+$D$3) -> 0 | K13: =G13+J13 -> 0
D14: 0 | E14: 0 | F14: =E14*D14 -> 0 | G14: =D14*E14/60*$B$3 -> 0 | H14: 0 | I14: =$D$3 -> 0.2 | J14: =D14*H14*(1+$D$3) -> 0 | K14: =G14+J14 -> 0
D15: 0 | E15: 0 | F15: =E15*D15 -> 0 | G15: =D15*E15/60*$B$3 -> 0 | H15: 0 | I15: =$D$3 -> 0.2 | J15: =D15*H15*(1+$D$3) -> 0 | K15: =G15+J15 -> 0
D16: 0 | E16: 0 | F16: =E16*D16 -> 0 | G16: =D16*E16/60*$B$3 -> 0 | H16: 0 | I16: =$D$3 -> 0.2 | J16: =D16*H16*(1+$D$3) -> 0 | K16: =G16+J16 -> 0
D17: 0 | E17: 0 | F17: =E17*D17 -> 0 | G17: =D17*E17/60*$B$3 -> 0 | H17: 0 | I17: =$D$3 -> 0.2 | J17: =D17*H17*(1+$D$3) -> 0 | K17: =G17+J17 -> 0
D18: 0 | E18: 0 | F18: =E18*D18 -> 0 | G18: =D18*E18/60*$B$3 -> 0 | H18: 0 | I18: =$D$3 -> 0.2 | J18: =D18*H18*(1+$D$3) -> 0 | K18: =G18+J18 -> 0
D19: 0 | E19: 0 | F19: =E19*D19 -> 0 | G19: =D19*E19/60*$B$3 -> 0 | H19: 0 | I19: =$D$3 -> 0.2 | J19: =D19*H19*(1+$D$3) -> 0 | K19: =G19+J19 -> 0
D20: 0 | E20: 0 | F20: =E20*D20 -> 0 | G20: =D20*E20/60*$B$3 -> 0 | H20: 0 | I20: =$D$3 -> 0.2 | J20: =D20*H20*(1+$D$3) -> 0 | K20: =G20+J20 -> 0
A21: SUM | B21: SUM VÅTROM OG FLISER | F21: =SUM(F7:F20) -> 0 | J21: =SUM(J7:J20) -> 0 | K21: =SUM(K7:K20) -> 0
E22: Timer | F22: =F21/60 -> 0 | G22: =SUM(G7:G21) -> 0
A24: UNDERLAG: FLISER GULV BAD (pr m²) – inkl membran og fuging
A25: Varenr. | B25: Varetekst | C25: Enh. | D25: Mengde/m² | E25: Tid min | G25: Enh.pris matr | H25: Pris pr m²
A26: 7.01 | B26: PCI NANOLIGHT 15KG | C26: stk | D26: 0.35 | E26: 10 | G26: 400 | H26: =G26*D26 -> 140
B27: NANOFUG PREM 23 LYSEGRÅ 5KG | C27: stk | D27: 0.1 | E27: 5 | G27: 319 | H27: =G27*D27 -> 31.9
B28: FLISER 20X20 STANDARD KERAM. | C28: kvm | D28: 1.1 | E28: 50 | G28: 350 | H28: =G28*D28 -> 385
B29: PCI GISOGRUND 1L | C29: stk | D29: 0.2 | E29: 6 | G29: 199 | H29: =G29*D29 -> 39.8
B30: PCI LASTOGUM GRÅ 8KG | C30: stk | D30: 0.2 | E30: 6 | G30: 640 | H30: =G30*D30 -> 128
B31: PECITAPE WS 40X120 | C31: stk | D31: 0.01 | E31: 4 | G31: 952 | H31: =G31*D31 -> 9.52
B32: PCI PECITAPE WS 37x37 | C32: stk | D32: 0.2 | E32: 7 | G32: 151 | H32: =G32*D32 -> 30.2
B33: SLUKRIST 20X20 | C33: stk | D33: 0.15 | E33: 35 | G33: 531 | H33: =G33*D33 -> 79.65
B34: PCI PECITAPE CORNER UTVENDIG | C34: stk | D34: 0.5 | E34: 4 | G34: 87 | H34: =G34*D34 -> 43.5
B35: SILCOFERM S 23 LYSEGRÅ 0,31L | C35: stk | D35: 0.2 | E35: 8 | G35: 128 | H35: =G35*D35 -> 25.6
B36: SUM | E36: =SUM(E26:E35) -> 135 | H36: =SUM(H26:H35) -> 913.17
A38: UNDERLAG: FLISER VEGG BAD INKL LITEX MEMBRANPLATE(pr m²)
A39: Varenr. | B39: Varetekst | C39: Enh. | D39: Mengde/m² | E39: Tid min | G39: Enh.pris | H39: Pris pr m²
A40: 7.02 | B40: FLISER 20X20 STANDARD KERAM. | C40: m² | D40: 1.1 | E40: 45 | G40: 350 | H40: =G40*D40 -> 385
B41: PCI FLISLIM NANOLIGHT 15KG | C41: stk | D41: 0.35 | E41: 5 | G41: 400 | H41: =G41*D41 -> 140
B42: NANOFUG PREM 23 LYSEGRÅ 5KG | C42: stk | D42: 0.1 | E42: 5 | G42: 319 | H42: =G42*D42 -> 31.9
B43: PCI LASTOGUM GRÅ 8KG | C43: stk | D43: 0.2 | E43: 3 | G43: 640 | H43: =G43*D43 -> 128
B44: PECITAPE WS 40X120 | C44: stk | D44: 0.05 | E44: 15 | G44: 952 | H44: =G44*D44 -> 47.6
B45: MEMBRANPLATE LITEX | C45: m² | D45: 1 | E45: 12 | G45: 420.41 | H45: =G45*D45 -> 420.41
B46: SILCOFERM S 23 LYSEGRÅ 0,31L | C46: stk | D46: 0.2 | E46: 12 | G46: 128 | H46: =G46*D46 -> 25.6
B47: ERGOBOARD UNDERPLATER | C47: m2 | D47: 1.1 | E47: 15 | G47: 290.81 | H47: =G47*D47 -> 319.891
B48: SUM | E48: =SUM(E40:E47) -> 112 | H48: =SUM(H40:H47) -> 1498.401
A50: UNDERLAG: SPARKLING VK VÅTROM CA 5 CM (pr m²)
A51: Varenr. | B51: Varetekst | C51: Enh. | D51: Mengde/m² | E51: Tid min | G51: Enh.pris | H51: Pris pr m²
A52: 7.03 | B52: PCI GISOGRUND 1L | C52: fl | D52: 0.1 | E52: 7 | G52: 305.55 | H52: =G52*D52 -> 30.555
B53: FLYTSPARKEL ULTIPRO FIBER 20KG | C53: sk | D53: 2.5 | E53: 40 | G53: 390.39 | H53: =G53*D53 -> 975.975
B54: SUM | E54: =SUM(E52:E53) -> 47 | H54: =SUM(H52:H53) -> 1006.53
A56: UNDERLAG: FLISER GULV TØRT ROM 30x30 (pr m²)
A57: Varenr. | B57: Varetekst | C57: Enh. | D57: Mengde/m² | E57: Tid min | G57: Enh.pris | H57: Pris pr m²
A58: 7.04 | B58: GULVFLIS 30X30 | C58: m² | D58: 1.05 | E58: 50 | G58: 300 | H58: =G58*D58 -> 315
B59: PCI LASTOGUM GRÅ 8KG | C59: stk | D59: 0.2 | E59: 6 | G59: 640 | H59: =G59*D59 -> 128
B60: PCI NANOFUG PREM 23 LYSGRÅ | C60: kg | D60: 0.1 | E60: 10 | G60: 429.83 | H60: =G60*D60 -> 42.983
B61: PCI GISOGROUND | C61: fl | D61: 0.1 | E61: 6 | G61: 565 | H61: =G61*D61 -> 56.5
B62: SUM | E62: =SUM(E58:E61) -> 72 | H62: =SUM(H58:H61) -> 542.483
A64: UNDERLAG: BAD KOMPLETT 8m² (28m² vegg + 8m² gulv)
A65: Post | B65: Beskrivelse | C65: Enh. | D65: Mengde | E65: Tid min | F65: tid total | G65: Mat.kost | H65: sum matr.
A66: 7.05 | B66: FLISER VEGG KOMPLETT | C66: m² | D66: 28 | E66: =E48 -> 112 | F66: =D66*E66 -> 3136 | G66: =H48 -> 1498.401 | H66: =D66*G66 -> 41955.228
B67: FLISER GULV KOMPLETT | C67: m² | D67: 8 | E67: =E36 -> 135 | F67: =D67*E67 -> 1080 | G67: =H36 -> 913.17 | H67: =D67*G67 -> 7305.36
B68: SUM | F68: =SUM(F66:F67) -> 4216 | H68: =SUM(H66:H67) -> 49260.588

Sheet 08 UE
A1: UNDERENTREPRENØRER
N2: =G19 -> 0
A3: Timepris kr/t: | B3: 700 | C3: Påslag mat %: | D3: 0.2 | N3: =J19 -> 0
N4: =K19 -> 0
A5: Post | B5: Beskrivelse | C5: Enh. | D5: Mengde | E5: Min/enh | F5: min total | G5: Timekost | H5: Mat.pris | I5: Påsl.% | J5: Mat.kost | K5: Sum
A6: 8.01 | B6: RØRLEGGER TILBUD UE | C6: RS | D6: 0 | E6: 0 | F6: =D6*E6 -> 0 | G6: =D6*E6/60*$B$3 -> 0 | H6: 0 | I6: =$D$3 -> 0.2 | J6: =D6*H6*(1+$D$3) -> 0 | K6: =G6+J6 -> 0
A7: 8.02 | B7: MALER Helsparkling og maling vegg ny gips | C7: RS/m2 | D7: 0 | E7: 0 | F7: =D7*E7 -> 0 | G7: =D7*E7/60*$B$3 -> 0 | H7: 350 | I7: =$D$3 -> 0.2 | J7: =D7*H7*(1+$D$3) -> 0 | K7: =G7+J7 -> 0
A8: 8.03 | B8: MALER Helsparkling og malig tak ny gips | C8: RS/m2 | D8: 0 | E8: 0 | F8: =D8*E8 -> 0 | G8: =D8*E8/60*$B$3 -> 0 | H8: 375 | I8: =$D$3 -> 0.2 | J8: =D8*H8*(1+$D$3) -> 0 | K8: =G8+J8 -> 0
A9: 8.04 | B9: MALER Listefri løsning | C9: RS | D9: 0 | E9: 0 | F9: =D9*E9 -> 0 | G9: =D9*E9/60*$B$3 -> 0 | H9: 0 | I9: =$D$3 -> 0.2 | J9: =D9*H9*(1+$D$3) -> 0 | K9: =G9+J9 -> 0
A10: 8.05 | B10: ELEKTRIKER TILBUD | C10: RS | D10: 0 | E10: 0 | F10: =D10*E10 -> 0 | G10: =D10*E10/60*$B$3 -> 0 | H10: 0 | I10: =$D$3 -> 0.2 | J10: =D10*H10*(1+$D$3) -> 0 | K10: =G10+J10 -> 0
A11: 8.06 | B11: VENTILASJONSANLEGG | C11: RS | D11: 0 | E11: 0 | F11: =D11*E11 -> 0 | G11: =D11*E11/60*$B$3 -> 0 | H11: 0 | I11: =$D$3 -> 0.2 | J11: =D11*H11*(1+$D$3) -> 0 | K11: =G11+J11 -> 0
A12: 8.07 | B12: GRAVING/ GRUNNARBEID | C12: RS | D12: 0 | E12: 0 | F12: =D12*E12 -> 0 | G12: =D12*E12/60*$B$3 -> 0 | H12: 0 | I12: =$D$3 -> 0.2 | J12: =D12*H12*(1+$D$3) -> 0 | K12: =G12+J12 -> 0
A13: 8.08 | B13: KOORDINERING UE | C13: T | D13: 0 | E13: 60 | F13: =D13*E13 -> 0 | G13: =D13*E13/60*$B$3 -> 0 | H13: 0 | I13: =$D$3 -> 0.2 | J13: =D13*H13*(1+$D$3) -> 0 | K13: =G13+J13 -> 0
D14: 0 | E14: 0 | F14: =D14*E14 -> 0 | G14: =D14*E14/60*$B$3 -> 0 | H14: 0 | I14: =$D$3 -> 0.2 | J14: =D14*H14*(1+$D$3) -> 0 | K14: =G14+J14 -> 0
D15: 0 | E15: 0 | F15: =D15*E15 -> 0 | G15: =D15*E15/60*$B$3 -> 0 | H15: 0 | I15: =$D$3 -> 0.2 | J15: =D15*H15*(1+$D$3) -> 0 | K15: =G15+J15 -> 0
D16: 0 | E16: 0 | F16: =D16*E16 -> 0 | G16: =D16*E16/60*$B$3 -> 0 | H16: 0 | I16: =$D$3 -> 0.2 | J16: =D16*H16*(1+$D$3) -> 0 | K16: =G16+J16 -> 0
D17: 0 | E17: 0 | F17: =D17*E17 -> 0 | G17: =D17*E17/60*$B$3 -> 0 | H17: 0 | I17: =$D$3 -> 0.2 | J17: =D17*H17*(1+$D$3) -> 0 | K17: =G17+J17 -> 0
D18: 0 | E18: 0 | F18: =D18*E18 -> 0 | G18: =D18*E18/60*$B$3 -> 0 | H18: 0 | I18: =$D$3 -> 0.2 | J18: =D18*H18*(1+$D$3) -> 0 | K18: =G18+J18 -> 0
A19: SUM | B19: SUM RØRLEGGER (UE / OVERSLAG) | F19: =SUM(F6:F18) -> 0 | G19: =SUM(G6:G18) -> 0 | J19: =SUM(J6:J18) -> 0 | K19: =SUM(K6:K18) -> 0
D20: Timer | F20: =F19/60 -> 0
