Workbook
Name Trappebilde: Leveransebeskrivelse!$A$324

Sheet Bilder kledning
A1: Kledning | E1: Kledning takutspring
A2: Produkt | B2: Bilde | C2: Indeks | E2: Indeks | F2: Produkt | G2: Bilde
A3: Dobbelfals grunnet | B3: #VALUE! | C3: 1 | E3: 1 | F3: Spaltekledning | G3: #VALUE!
A4: Dobbelfals med staff grunnet | B4: #VALUE! | C4: 2 | E4: 2 | F4: Dobbelfals grunnet | G4: #VALUE!
A5: Dobbelfals med spor grunnet | B5: #VALUE! | C5: 3 | E5: 3 | F5: Dobbelfals med staff grunnet | G5: #VALUE!
A6: Dobbelfals tett 1 lag visir | B6: #VALUE! | C6: 4 | E6: 4 | F6: Dobbelfals med spor grunnet | G6: #VALUE!
A7: Rektangulær grunnet | B7: #VALUE! | C7: 5 | E7: 5 | F7: Dobbelfals tett 1 lag visir | G7: #VALUE!
A8: Weber VentiGuard | B8: #VALUE! | C8: 7 | E8: 6 | F8: Rektangulær grunnet | G8: #VALUE!
A9: Steni fasadeplate | B9: #VALUE! | C9: 8 | E9: 7 | F9: Weber VentiGuard | G9: #VALUE!
E10: 8 | F10: Steni fasadeplate | G10: #VALUE!

Sheet Bilder vindu
A1: Indeks | B1: Produkt | C1: Bilde | E1: Alubelagt? | G1: Indeks | H1: Farge | I1: Bilde
A2: 1 | B2: Tre - med eller uten aluminiumsbeslag | C2: #VALUE! | E2: Ja | G2: 1 | H2: NCS-S-0502-Y | I2: #VALUE!
A3: 2 | B3: Hel aluminium | C3: #VALUE! | E3: Nei | G3: 2 | H3: NCS-S-0500-N | I3: #VALUE!
G4: 3 | H4: NCS-S-8500-N | I4: #VALUE!
G5: 4 | H5: RAL-1013 | I5: #VALUE!
G6: 5 | H6: RAL-3011 | I6: #VALUE!
G7: 6 | H7: RAL-5007 | I7: #VALUE!
G8: 7 | H8: RAL-6005 | I8: #VALUE!
G9: 8 | H9: RAL-7012 | I9: #VALUE!
G10: 9 | H10: RAL-7015 | I10: #VALUE!
G11: 10 | H11: RAL-7016 | I11: #VALUE!
G12: 11 | H12: RAL-7021 | I12: #VALUE!
G13: 12 | H13: RAL-7022 | I13: #VALUE!
G14: 13 | H14: RAL-7037 | I14: #VALUE!
G15: 14 | H15: RAL-7040 | I15: #VALUE!
... G23: 22 | H23: RAL9007 Grey Alu (Gjelder kun aluminium) | I23: #VALUE!

Sheet Bilder takvindu
A1: Indeks | B1: Produkt | C1: Bilde
A2: 1 | B2: Manuelt betjent midthengslet | C2: #VALUE!
A3: 2 | B3: Manuelt betjent topphengslet | C3: #VALUE!
A4: 3 | B4: Fjernbetjent midthengslet | C4: #VALUE!
A5: 4 | B5: Fjernbetjent topphengslet | C5: #VALUE!

Sheet Bilder terrassebord
A1: Indeks | B1: Produkt | C1: Bilde | E1: Indeks | F1: Himling under balkong:
A2: 1 | B2: Imregnert | C2: #VALUE! | E2: 1 | F2: Åpen
A3: 2 | B3: Royal brun | C3: #VALUE! | E3: 2 | F3: TIL-TAK eller tilsvarende
A4: 3 | B4: Royal brun rillet | C4: #VALUE! | E4: 3 | F4: Tett dekke med spaltepanel i himling
A5: 4 | B5: Royal grå | C5: #VALUE! | E5: 4 | F5: Tett dekke med himling type:
A6: 5 | B6: Royal grå rillet | C6: #VALUE!

Sheet Bilder ytterdør
A1: Inngangsdør | E1: Boddør | I1: Farger
A2: Indeks | B2: Produkt | C2: Bilde | E2: Indeks | F2: Produkt | G2: Bilde | I2: Indeks | J2: Farge | K2: Bilde
A3: 1 | B3: Klassisk | C3: #VALUE! | E3: 1 | F3: Stående bord | G3: #VALUE! | I3: 1 | J3: NCS S0502-Y | K3: #VALUE!
A4: 2 | B4: Moderne | C4: #VALUE! | E4: 2 | F4: Slett | G4: #VALUE! | I4: 2 | J4: NCS S0500-N | K4: #VALUE!
E5: 3 | F5: Slett med vindu | G5: #VALUE! | I5: 3 | J5: NCS S3502-Y | K5: #VALUE!
E6: 4 | F6: Fiskeben | G6: #VALUE! | I6: 4 | J6: NCS S7000-N | K6: #VALUE!
E7: 5 | F7: Fiskeben med vindu | G7: #VALUE! | I7: 5 | J7: NCS S5020-R90B | K7: #VALUE!
I8: 6 | J8: NCS S6020-G10Y | K8: #VALUE!
I9: 7 | J9: NCS S2570-Y90R | K9: #VALUE!
I10: 8 | J10: NCS 4050-Y80R | K10: #VALUE!
I11: 9 | J11: NCS S9000-N | K11: #VALUE!

Sheet Bilder balkongdør - skyvedør
A1: Balkongdør | E1: Skyvedør
A2: Indeks | B2: Produkt | C2: Bilde | E2: Indeks | F2: Produkt | G2: Bilde
A3: 1 | B3: Balkongdør | C3: #VALUE! | E3: 1 | F3: Skyvedør | G3: #VALUE!

Sheet Bilder tak
A1: Takstein | E1: Papp | I1: Farge papp | M1: Type tak | O1: Båndtekking
A2: Indeks | B2: Produkt | C2: Bilde | E2: Indeks | F2: Produkt | G2: Bilde | I2: Indeks | J2: Produkt | K2: Bilde | M2: Takstein | O2: Indeks | P2: Produkt | Q2: Bilde
A3: 1 | B3: Zanda Protector Svart | C3: #VALUE! | E3: 1 | F3: Takpapp | G3: #VALUE! | I3: 1 | J3: Kullsort | K3: #VALUE! | M3: Takpapp | O3: 1 | P3: Båndtekking | Q3: #VALUE!
A4: 2 | B4: Zanda Protector Rød | C4: #VALUE! | I4: 2 | J4: Pansergrå | K4: #VALUE! | M4: Båndtekking
A5: 3 | B5: Zanda Protector Mørk grå | C5: #VALUE!
A6: 4 | B6: Zanda Protector Teglrød | C6: #VALUE!
A7: 5 | B7: Zanda Arktis svart | C7: #VALUE!
A8: 6 | B8: Zanda Arktis rød | C8: #VALUE!
A9: 7 | B9: Zanda Arktis grå | C9: #VALUE!
A10: 8 | B10: Zanda Arktis teglrød | C10: #VALUE!
A11: 9 | B11: Zanda Arktis Antikk Grå | C11: #VALUE!
A12: 10 | B12: Zanda Arktis Antikk Rød | C12: #VALUE!
A13: 11 | B13: Zanda Evo Svart | C13: #VALUE!
A14: 12 | B14: Zanda Evo Grå | C14: #VALUE!
A15: 13 | B15: Zanda Minster Svart | C15: #VALUE!
A16: 14 | B16: Zanda Minster Grå | C16: #VALUE!

Sheet Bilder listverk
A1: Taklist | E1: Gulvlist | I1: Karmlist
A2: Indeks | B2: Produkt | C2: Bilde | E2: Indeks | F2: Produkt | G2: Bilde | I2: Indeks | J2: Produkt | K2: Bilde
A3: 1 | B3: Hvitmalt dobbel skygge | C3: #VALUE! | E3: 1 | F3: Hvitmalt glatt | G3: #VALUE! | I3: 1 | J3: Hvitmalt glatt | K3: #VALUE!
A4: 2 | B4: Hvitmalt hulkil enkel | C4: #VALUE! | E4: 2 | F4: Hvitmalt glatt med nese | G4: #VALUE! | I4: 2 | J4: Hvitmalt profilert | K4: #VALUE!
A5: 3 | B5: Hvitmalt hulkil profilert | C5: #VALUE! | E5: 3 | F5: Hvitmalt profilert | G5: #VALUE!
E6: 4 | F6: Lakkert eik | G6: #VALUE!

Sheet Bilder Thermomur
A1: Indeks | B1: Produkt | C1: Bilde
A2: 1 | B2: Thermomur® | C2: #VALUE!

Sheet Bilder innvendige overflater
A1: Indeks | B1: Produkt | C1: Bilde | E1: Indeks | F1: Produkt | G1: Bilde
A2: 1 | B2: Gipsplater | C2: #VALUE! | E2: 1 | F2: Gips 4 falset 900x2400 mm | G2: #VALUE!
A3: 2 | B3: MDF V-fas | C3: #VALUE! | E3: 2 | F3: Sponplate fas (Takess) 620x1220 mm | G3: #VALUE!
A4: 3 | B4: MDF Skygge/skrå | C4: #VALUE! | E4: 3 | F4: Panelbord MDF skygge 140x4190 mm | G4: #VALUE!
A5: 4 | B5: MDF Perlestaff | C5: #VALUE!
A6: 5 | B6: Sponplater | C6: #VALUE!

Sheet Bilder innerdør
A1: Indeks | B1: Produkt | C1: Bilde | E1: Indeks | F1: Farge | G1: Bilde
A2: 1 | B2: Lett fyllingsdør profilert | C2: #VALUE! | E2: 1 | F2: NCS S0502-Y | G2: #VALUE!
A3: 2 | B3: Lett fyllingsdør slett | C3: #VALUE! | E3: 2 | F3: NCS S0500-N | G3: #VALUE!
A4: 3 | B4: Massiv fyllingsdør profilert | C4: #VALUE! | E4: 3 | F4: RAL 9010 | G4: #VALUE!
A5: 4 | B5: Massiv fyllingsdør slett | C5: #VALUE! | E5: 4 | F5: Annen farge - spesifiser i merknad | G5: #VALUE!

Sheet Bilder trapp
A1: Indeks | B1: Produkt | C1: Bilde
A2: 1 | B2: Stryntrappa Fauna - Åpen trapp | C2: #VALUE!
A3: 2 | B3: Stryntrappa Fauna - Tett trapp | C3: #VALUE!

Sheet Bilder bjelkelag
A1: Indeks | B1: Produkt | C1: Bilde | E1: Liste:
A2: 1 | B2: Klar til støping i underetasje/sponplate i øvrige etasjer | C2: #VALUE! | E2: Klar til støping i underetasje/sponplate i øvrige etasjer
A3: 2 | B3: Sponplate | C3: #VALUE! | E3: Sponplate
A4: 3 | B4: Core La Fenice Black | C4: #VALUE! | E4: Flis
A5: 4 | B5: Core La Fenice Grey | C5: #VALUE! | E5: Annet - noteres i merknad
A6: 5 | B6: Core La Fenice Silver | C6: #VALUE!
A7: 6 | B7: Core La Fenice Taupe | C7: #VALUE!
A8: 7 | B8: Core La Fenice White | C8: #VALUE!
A9: 8 | B9: Annet - noteres i merknad

Sheet Bilder våtrom
A1: Våtrom | E1: Vaskerom
A2: Indeks | B2: Produkt | C2: Bilde | E2: Indeks | F2: Produkt | G2: Bilde | I2: Indeks | J2: Produkt | K2: Bilde
A3: 1 | B3: Ultipro Ergoboard 18x410x1820 mm sponplate | C3: #VALUE! | E3: 1 | F3: Gips klargjort for sparkling og maling | G3: #VALUE! | I3: 1 | J3: Core La Fenice Black | K3: #VALUE!
A4: 2 | B4: Litex eller annen membranplate klar for forsegling i skjøter og fliser | C4: #VALUE! | E4: 2 | F4: Ultipro Ergoboard 18x410x1820 mm sponplate | G4: #VALUE! | I4: 2 | J4: Core La Fenice Grey | K4: #VALUE!
A5: 3 | B5: Core La Fenice Black | C5: #VALUE! | E5: 3 | F5: Litex eller annen membranplate klar for forsegling i skjøter og fliser | G5: #VALUE! | I5: 3 | J5: Core La Fenice Silver | K5: #VALUE!
A6: 4 | B6: Core La Fenice Grey | C6: #VALUE! | E6: 4 | F6: Core La Fenice Black | G6: #VALUE! | I6: 4 | J6: Core La Fenice Taupe | K6: #VALUE!
A7: 5 | B7: Core La Fenice Silver | C7: #VALUE! | E7: 5 | F7: Core La Fenice Grey | G7: #VALUE! | I7: 5 | J7: Core La Fenice White | K7: #VALUE!
A8: 6 | B8: Core La Fenice Taupe | C8: #VALUE! | E8: 6 | F8: Core La Fenice Silver | G8: #VALUE!
A9: 7 | B9: Core La Fenice White | C9: #VALUE! | E9: 7 | F9: Core La Fenice Taupe | G9: #VALUE!
A10: 8 | B10: Fibo våtromsplate (type noteres i merknad) | E10: 8 | F10: Core La Fenice White | G10: #VALUE!
E11: 9 | F11: Fibo våtromsplate (type noteres i merknad)

Sheet Valideringslister uten bilder
A1: Innredningspakker | C1: Gulv | F1: Vegger
A2: Pakke 1: inntil 100 m² | C2: Indeks | D2: Produkt | F2: Indeks | G2: Produkt
A3: Pakke 2: 100-200 m² | C3: 1 | D3: Klar til støping | F3: 1 | G3: Gipsplater
A4: Pakke 3: Over 200 m² | C4: 2 | D4: Sponplate | F4: 2 | G4: MDF V-fas
C5: 3 | D5: Flis | F5: 3 | G5: MDF Skygge/skrå
C6: 4 | D6: Parkett | F6: 4 | G6: MDF Perlestaff
C7: 5 | D7: Laminat | F7: 5 | G7: Sponplater

Sheet Husmodeller
A1: Moderne | E1: Tradisjon | I1: Nordisk | M1: Hustype | O1: Alfabetisk rekkefølge
A2: Indeks | B2: Modell | C2: Bilde | E2: Indeks | F2: Modell | G2: Bilde | I2: Indeks | J2: Modell | K2: Bilde | M2: Moderne | O2: Indeks | P2: Modell | Q2: Bilde
A3: 1 | B3: Bladet | C3: #VALUE! | E3: 1 | F3: Karitinden | G3: #VALUE! | I3: 1 | J3: Eidshornet | K3: #VALUE! | M3: Nordisk | O3: 1 | P3: Bladet | Q3: #VALUE!
A4: 2 | B4: Felden | C4: #VALUE! | E4: 2 | F4: Saudehornet | G4: #VALUE! | I4: 2 | J4: Gråhøi | K4: #VALUE! | M4: Tradisjon | O4: 2 | P4: Breitind | Q4: #VALUE!
A5: 3 | B5: Høgflya | C5: #VALUE! | E5: 3 | F5: Slotthø | G5: #VALUE! | I5: 3 | J5: Himmeltinden | K5: #VALUE! | O5: 3 | P5: Eggen | Q5: #VALUE!
A6: 4 | B6: Kolåstinden | C6: #VALUE! | E6: 4 | F6: Tårnet | G6: #VALUE! | I6: 4 | J6: Klovtinden | K6: #VALUE! | O6: 4 | P6: Eidshornet | Q6: #VALUE!
A7: 5 | B7: Melderskin | C7: #VALUE! | E7: 5 | I7: 5 | J7: Saksa | K7: #VALUE! | O7: 5 | P7: Falketind | Q7: #VALUE!
A8: 6 | B8: Rundhøi | C8: #VALUE! | E8: 6 | I8: 6 | J8: Sandtinden | K8: #VALUE! | O8: 6 | P8: Felden | Q8: #VALUE!
A9: 7 | B9: Skarfjellet | C9: #VALUE! | E9: 7 | I9: 7 | J9: Skopphornet 1 etg | K9: #VALUE! | O9: 7 | P9: Gråhøi | Q9: #VALUE!
A10: 8 | B10: Skåregga flatt tak | C10: #VALUE! | E10: 8 | I10: 8 | J10: Storfjellet | K10: #VALUE! | O10: 8 | P10: Himmeltinden | Q10: #VALUE!
A11: 9 | B11: Skåregga saltak | C11: #VALUE! | E11: 9 | I11: 9 | J11: Sukkertoppen | K11: #VALUE! | O11: 9 | P11: Hyllingen | Q11: #VALUE!
A12: 10 | B12: Skåregga | C12: #VALUE! | E12: 10 | I12: 10 | J12: Vettakollen | K12: #VALUE! | O12: 10 | P12: Høgflya | Q12: #VALUE!
A13: 11 | B13: Svanshornet | C13: #VALUE! | E13: 11 | I13: 11 | O13: 11 | P13: Karitinden | Q13: #VALUE!
A14: 12 | B14: Tua | C14: #VALUE! | E14: 12 | I14: 12 | O14: 12 | P14: Klovtinden | Q14: #VALUE!
A15: 13 | B15: Veslepiggen | C15: #VALUE! | E15: 13 | I15: 13 | O15: 13 | P15: Kniven | Q15: #VALUE!
A16: 14 | I16: 14 | O16: 14 | P16: Kolåstinden | Q16: #VALUE!
A17: 15 | I17: 15 | O17: 15 | P17: Lifjell | Q17: #VALUE!
A18: 16 | O18: 16 | P18: Melderskin | Q18: #VALUE!
O19: 17 | P19: Rundhøi | Q19: #VALUE!
O20: 18 | P20: Saksa | Q20: #VALUE!
O21: 19 | P21: Sandtinden | Q21: #VALUE!
O22: 20 | P22: Saudehornet | Q22: #VALUE!
O23: 21 | P23: Segla | Q23: #VALUE!
O24: 22 | P24: Skaget | Q24: #VALUE!
O25: 23 | P25: Skarfjellet | Q25: #VALUE!
O26: 24 | P26: Skogshorn | Q26: #VALUE!
O27: 25 | P27: Skopphornet 1 etasje | Q27: #VALUE!
O28: 26 | P28: Skopphornet 2 etasjer | Q28: #VALUE!
O29: 27 | P29: Skåregga flatt tak | Q29: #VALUE!
O30: 28 | P30: Skåregga saltak | Q30: #VALUE!
... O44: 42 | P44: Vettakollen | Q44: #VALUE!

Sheet Forside
A2: Leveransebeskrivelse
B6: Kunde: | D6: Bruce Wayne
B9: Byggeplass: | D9: 1007 Mountain drive, Gotham
B12: Husmodell: | D12: Bladet
B15: Forhandler: | D15: LexCorp
B18: Siste dato tegning: | D18: 45343
B21: Leveransebeskrivelse endret dato: | D21: 45477
A24: Byggeprosessen skal være den positive starten på ditt nye liv. Å kjøpe nytt hus er trolig den største investeringen du gjør i livet, og da må man ha tillit til den som er så heldig å få denne jobben for deg. Vi i VestlandsHus har derfor forsøkt i vår leveransebeskrivelse å opplyse så informativt som mulig, så du ikke skal få noen uheldige overraskelser om du velger oss. Vi bistår i hele prosessen og går gjennom punkt for punkt – vi ønsker du skal vite nøyaktig hva du betaler for! Alle våre byggeprosjekter skjer i henhold til Teknisk forskrift TEK17.
A25: =_xlfn.XLOOKUP($D$12,Husmodeller!P3:P44,Husmodeller!Q3:Q44,"") -> #VALUE!

Sheet Leveransebeskrivelse
A2: Innholdsfortegnelse
B5: =A49 -> 1. Utvendig arbeider bolig | F5: side 3
C6: =A75 -> Rekkverk/gjerde på tomt: | F6: side 3
C7: =A83 -> Terrasser: | F7: side 3
C8: =A96 -> Yttervegger: | F8: side 4
C9: =A115 -> Vindu: | F9: side 4
C10: =A144 -> Takvindu: | F10: side 5
C11: =A155 -> Balkong: | F11: side 5
C12: =A176 -> Ytterdør: | F12: side 5
C13: =A192 -> Balkongdør og skyvedør: | F13: side 6
C14: =A210 -> Boddør: | F14: side 6
C15: =A224 -> Takutspring underkledning: | F15: side 6
C16: =A240 -> Tak: | F16: side 7
B17: =A252 -> 2. Overflater i boligrom | F17: side 7
C18: =A255 -> Innervegger: | F18: side 7
C19: =A272 -> Listverk: | F19: side 7
C20: =A286 -> Gulv på tørre rom: | F20: side 8
C21: =A297 -> Himling: | F21: side 8
C22: =A310 -> Innerdører: | F22: side 8
C23: =A322 -> Trapp: | F23: side 8
B24: =A334 -> 3. Bad, toalett og vaskerom | F24: side 9
C25: =A337 -> Gulv på bad og vaskerom: | F25: side 9
C26: =A351 -> Vegger på bad: | F26: side 9
C27: =A368 -> Vegger på vaskerom: | F27: side 9
B28: =A382 -> 4. Rør og sanitærarbeider | F28: side 10
B29: =A396 -> 5. Kjøkken, garderobe og oppbevaringsløsninger | F29: side 10
B30: =A409 -> 6. Varmesystem | F30: side 10
B31: =A430 -> 7. Brannalarm og slukking | F31: side 11
B32: =A440 -> 8. Luftbehandling | F32: side 11
B33: =A453 -> 9. Elektrisk anlegg | F33: side 11
B34: =A461 -> 10. Andre tjenester og nødvendig arbeid | F34: side 11
B35: =A477 -> 11. Ytelser som normalt ikke inngår i prisen utover punkt nevnt i kap.1-10 om ikke annet er avtalt | F35: side 12
B37: =A525 -> 12. Toleranseklasse og avvik | F37: side 13
B38: =A559 -> 13. Garanti/forsikring | F38: side 13
B39: =A565 -> 14. Offentligrettslige regler | F39: side 13
B40: =Romskjema!A1 -> 15. Romskjema | F40: side 14
B41: ='Gebyrer, kostnader og signatur'!A1 -> 16. Gebyrer og kostnader | F41: side 16
A49: 1. Utvendig arbeider bolig
A51: Grunnarbeid og ringmur/grunnmur er ikke en del av standard leveranse om ikke annet er avtalt spesielt. Dette noteres i så fall under "Spesielt avtalt". | E51: #VALUE!
A55: Foretrukket løsning (forestås av tiltakshaver om ikke annet er avtalt):
...

Sheet Romskjema
A1: 15. Romskjema
A4: Innvendig romskjema
A6: Rom | G6: Gulv | M6: Vegg | S6: Himling | Y6: Listverk | AQ6: Kommentar
Y7: Gulv | AE7: Himling | AK7: Dør/vindu
A8: Entré
A10: Hall/gang
A12: Kjøkken
A14: Stue
A16: Bad 1
A18: Bad 2
A20: Loftstue
A22: Vaskerom
A24: Soverom 1
A26: Soverom 2
A28: Soverom 3
A30: Soverom 4
A32: Innvendig romskjema fortsetter:
A34: Rom | G34: Gulv | M34: Vegg | S34: Himling | Y34: Listverk | AQ34: Kommentar
Y35: Gulv | AE35: Tak | AK35: Dør/vindu

Sheet Gebyrer, kostnader og signatur
A1: 16. Gebyrer og kostnader
A4: Gebyrer og kostnader som normalt tilkommer, og som ikke er med i leveransen.
A6: Beskrivelse | E6: Kommentar
A7: Gebyr for byggesaksbehandling
A8: Gebyr for ansvarsrett
A9: Kostnader forbundet med avfallshåndtering
A10: Byggelånsrenter og andre finanskostnader
A11: Prisjustering mellom kontrakt og oppstart (Indeksregulering)
A13: Gebyr for tilknytning til offentlig ledningsnett
A14: Obligatorisk uavhengig kontroll
A15: Snørydding frem til boligleverandør overtar byggeplassen
A16: Andre kostnader knyttet til kommunale krav og forutsetninger i reguleringsplan og bestemmelser kan forekomme.
A19: Energi til byggestrøm, avfukting og oppvarming i byggetiden
A22: Det bekreftes med dette at selger har gjennomgått leveransebeskrivelsen med kjøper, og kjøper har forstått og aksepterer vilkårene for leveransen.
A25: Sted/dato: | E25: Sted/dato:
A32: Tiltakshavers underskrift | E32: Selger/forhandlers underskrift
